Workbook
Name StärkeSpieler: INDEX(Bilder!$B$1:$B$20,Stärkeberechnung!$B$1)

Sheet Stärkeberechnung
A1: Stärke: | B1: 1 | O1: Beste Fähigkeiten zur gewählten Position:
A2: Position: | B2: 1 | O2: 0 | P2: 0.25 | Q2: 0.5 | R2: 0.75 | S2: 1
A3: Erwartete Fähigkeiten: | B3: Fähigkeit 1: | C3: 1 | D3: Stufe: | E3: 1 | F3: {=INDEX(Admindaten!$B$2:$L$39,Stärkeberechnung!C3,Stärkeberechnung!$B$2)*E3} -> 0 | O3: {=IF($B$2=1,Admindaten!V3:V31,IF($B$2=2,Admindaten!AA3:AA22,IF($B$2=3,Admindaten!AF3:AF22,IF($B$2=4,Admindaten!AK3:AK22,IF($B$2=5,Admindaten!AP3:AP22,IF($B$2=6,Admindaten!AZ3:AZ22,IF($B$2=7,Admindaten!BE3:BE22,IF($B$2=8,Admindaten!BJ3:BJ22,IF($B$2=9,Admindaten!BO3:BO22,Admindaten!BT3:BT22)))))))))} -> Elfmeter | P3: {=IF($B$2=1,Admindaten!W3:W31,IF($B$2=2,Admindaten!AB3:AB22,IF($B$2=3,Admindaten!AG3:AG22,IF($B$2=4,Admindaten!AL3:AL22,IF($B$2=5,Admindaten!AQ3:AQ22,IF($B$2=6,Admindaten!BA3:BA22,IF($B$2=7,Admindaten!BF3:BF22,IF($B$2=8,Admindaten!BK3:BK22,IF($B$2=9,Admindaten!BP3:BP22,Admindaten!BU3:BU22)))))))))} -> 0 | Q3: {=IF($B$2=1,Admindaten!X3:X31,IF($B$2=2,Admindaten!AC3:AC22,IF($B$2=3,Admindaten!AH3:AH22,IF($B$2=4,Admindaten!AM3:AM22,IF($B$2=5,Admindaten!AR3:AR22,IF($B$2=6,Admindaten!BB3:BB22,IF($B$2=7,Admindaten!BG3:BG22,IF($B$2=8,Admindaten!BL3:BL22,IF($B$2=9,Admindaten!BQ3:BQ22,Admindaten!BV3:BV22)))))))))} -> 0 | R3: {=IF($B$2=1,Admindaten!Y3:Y31,IF($B$2=2,Admindaten!AD3:AD22,IF($B$2=3,Admindaten!AI3:AI22,IF($B$2=4,Admindaten!AN3:AN22,IF($B$2=5,Admindaten!AS3:AS22,IF($B$2=6,Admindaten!BC3:BC22,IF($B$2=7,Admindaten!BH3:BH22,IF($B$2=8,Admindaten!BM3:BM22,IF($B$2=9,Admindaten!BR3:BR22,Admindaten!BW3:BW22)))))))))} -> 0 | S3: {=IF($B$2=1,Admindaten!Z3:Z31,IF($B$2=2,Admindaten!AE3:AE22,IF($B$2=3,Admindaten!AJ3:AJ22,IF($B$2=4,Admindaten!AO3:AO22,IF($B$2=5,Admindaten!AT3:AT22,IF($B$2=6,Admindaten!BD3:BD22,IF($B$2=7,Admindaten!BI3:BI22,IF($B$2=8,Admindaten!BN3:BN22,IF($B$2=9,Admindaten!BS3:BS22,Admindaten!BX3:BX22)))))))))} -> Abstöße
B4: Fähigkeit 2: | C4: 1 | D4: Stufe: | E4: 1 | F4: {=INDEX(Admindaten!$B$2:$L$39,Stärkeberechnung!C4,Stärkeberechnung!$B$2)*E4} -> 0 | O4: Freistöße | P4: 0 | Q4: 0 | R4: 0 | S4: Abwürfe
B5: Fähigkeit 3: | C5: 1 | D5: Stufe: | E5: 1 | F5: {=INDEX(Admindaten!$B$2:$L$39,Stärkeberechnung!C5,Stärkeberechnung!$B$2)*E5} -> 0 | O5: KEINE | P5: 0 | Q5: 0 | R5: 0 | S5: Aktives Mitspielen
B6: Fähigkeit 4: | C6: 1 | D6: Stufe: | E6: 1 | F6: {=INDEX(Admindaten!$B$2:$L$39,Stärkeberechnung!C6,Stärkeberechnung!$B$2)*E6} -> 0 | O6: Allein gegen Torwart | P6: 0 | Q6: 0 | R6: 0 | S6: Eins gegen eins
B7: Fähigkeit 5: | C7: 1 | D7: Stufe: | E7: 1 | F7: {=INDEX(Admindaten!$B$2:$L$39,Stärkeberechnung!C7,Stärkeberechnung!$B$2)*E7} -> 0 | O7: Antritt | P7: 0 | Q7: 0 | R7: 0 | S7: Fangsicherheit
B8: Fähigkeit 6: | C8: 1 | D8: Stufe: | E8: 1 | F8: {=INDEX(Admindaten!$B$2:$L$39,Stärkeberechnung!C8,Stärkeberechnung!$B$2)*E8} -> 0 | O8: Aufbauspiel | P8: 0 | Q8: 0 | R8: 0 | S8: Fausten
B9: Fähigkeit 7: | C9: 1 | D9: Stufe: | E9: 1 | F9: {=INDEX(Admindaten!$B$2:$L$39,Stärkeberechnung!C9,Stärkeberechnung!$B$2)*E9} -> 0 | O9: Ausdauer | P9: 0 | Q9: 0 | R9: 0 | S9: Paraden
B10: Fähigkeit 8: | C10: 1 | D10: Stufe: | E10: 1 | F10: {=INDEX(Admindaten!$B$2:$L$39,Stärkeberechnung!C10,Stärkeberechnung!$B$2)*E10} -> 0 | O10: Ballbehauptung | P10: 0 | Q10: 0 | R10: 0 | S10: Reflexe
B11: Fähigkeit 9: | C11: 1 | D11: Stufe: | E11: 1 | F11: {=INDEX(Admindaten!$B$2:$L$39,Stärkeberechnung!C11,Stärkeberechnung!$B$2)*E11} -> 0 | O11: Ballgewinne | P11: 0 | Q11: 0 | R11: 0 | S11: Strafraumbeherrschung
B12: Fähigkeit 10: | C12: 1 | D12: Stufe: | E12: 1 | F12: {=INDEX(Admindaten!$B$2:$L$39,Stärkeberechnung!C12,Stärkeberechnung!$B$2)*E12} -> 0 | O12: Dribbling | P12: 0 | Q12: 0 | R12: 0 | S12: 0
A13: Punkte: | F13: =SUM(F3:F12) -> 0 | O13: Ecken | P13: 0 | Q13: 0 | R13: 0 | S13: 0
A14: Stärke Spieler: | F14: =VLOOKUP($B$1,Admindaten!N2:R21,1,FALSE)-(VLOOKUP($B$1,Admindaten!N2:R21,2,FALSE)*VLOOKUP($B$1,Admindaten!N2:R21,3,FALSE))+(VLOOKUP($B$1,Admindaten!N2:R21,3,FALSE))*$F$13 -> 1 | O14: Einwürfe | P14: 0 | Q14: 0 | R14: 0 | S14: 0
A15: Maximalstärke Spieler: | F15: =VLOOKUP($B$1,Admindaten!N2:R21,1,FALSE)-(VLOOKUP($B$1,Admindaten!N2:R21,2,FALSE)*VLOOKUP($B$1,Admindaten!N2:R21,3,FALSE))+(VLOOKUP($B$1,Admindaten!N2:R21,3,FALSE))*IF($B$2=8,10.5,12) -> 2.2 | O15: Elfmeter | P15: 0 | Q15: 0 | R15: 0 | S15: 0
A16: Minimumstärke Spieler: | F16: =VLOOKUP($B$1,Admindaten!N2:R21,1,FALSE)-(VLOOKUP($B$1,Admindaten!N2:R21,2,FALSE)*VLOOKUP($B$1,Admindaten!N2:R21,3,FALSE))+(VLOOKUP($B$1,Admindaten!N2:R21,3,FALSE))*IF($B$2=8,-10.75,-12) -> -0.2 | O16: Flanken | P16: 0 | Q16: 0 | R16: 0 | S16: 0
O17: Freistöße | P17: 0 | Q17: 0 | R17: 0 | S17: 0
O18: Kopfball | P18: 0 | Q18: 0 | R18: 0 | S18: 0
O19: Kreativität | P19: 0 | Q19: 0 | R19: 0 | S19: 0
O20: Kurze Pässe | P20: 0 | Q20: 0 | R20: 0 | S20: 0
O21: Lange Pässe | P21: 0 | Q21: 0 | R21: 0 | S21: 0
O22: Manndeckung | P22: 0 | Q22: 0 | R22: 0 | S22: 0
O23: Schnelligkeit | P23: 0 | Q23: 0 | R23: 0 | S23: 0
O24: Schusskraft | P24: 0 | Q24: 0 | R24: 0 | S24: 0
O25: Schusstechnik | P25: 0 | Q25: 0 | R25: 0 | S25: 0
O26: Stellungsspiel | P26: 0 | Q26: 0 | R26: 0 | S26: 0
O27: Technik | P27: 0 | Q27: 0 | R27: 0 | S27: 0
O28: Torriecher | P28: 0 | Q28: 0 | R28: 0 | S28: 0
... O31: Zweikampf | P31: 0 | Q31: 0 | R31: 0 | S31: 0

Sheet Admindaten
A1: Fähigkeit | B1: TW | C1: LI | D1: IV | E1: LV/RV | F1: DM | G1: ZM | H1: OM | I1: LM/RM | J1: LS/RS | K1: HS | L1: ST | N1: Stufe | O1: Erwartete Fähigkeiten | P1: Stärke pro Fähigkeit | Q1: Maximale Stärke | R1: Minimale Stärke | T1: Positionen | V1: =B1 -> TW | AA1: =C1 -> LI | AF1: =D1 -> IV | AK1: =E1 -> LV/RV | AP1: =F1 -> DM | AU1: =G1 -> ZM | AZ1: =H1 -> OM | BE1: =I1 -> LM/RM | BJ1: =J1 -> LS/RS | BO1: =K1 -> HS | BT1: =L1 -> ST
A2: KEINE | B2: 0 | C2: 0 | D2: 0 | E2: 0 | F2: 0 | G2: 0 | H2: 0 | I2: 0 | J2: 0 | K2: 0 | L2: 0 | N2: 1 | O2: =(N2-1)/2 -> 0 | P2: =0.1+0.1/14*(N2-1) -> 0.1 | Q2: 2.2 | R2: 0 | T2: {=TRANSPOSE($B$1:$L$1)} -> TW | V2: 0 | W2: 0.25 | X2: 0.5 | Y2: 0.75 | Z2: 1 | AA2: 0 | AB2: 0.25 | AC2: 0.5 | AD2: 0.75 | AE2: 1 | AF2: 0 | AG2: 0.25 | AH2: 0.5 | AI2: 0.75 | AJ2: 1 | AK2: 0 | AL2: 0.25 | AM2: 0.5 | AN2: 0.75 | AO2: 1 | AP2: 0 | AQ2: 0.25 | AR2: 0.5 | AS2: 0.75 | AT2: 1 | AU2: 0 | AV2: 0.25 | AW2: 0.5 | AX2: 0.75 | AY2: 1 | AZ2: 0 | BA2: 0.25 | BB2: 0.5 | BC2: 0.75 | BD2: 1 | BE2: 0 | BF2: 0.25 | BG2: 0.5 | BH2: 0.75 | BI2: 1 | BJ2: 0 | BK2: 0.25 | BL2: 0.5 | BM2: 0.75 | BN2: 1 | BO2: 0 | BP2: 0.25 | BQ2: 0.5 | BR2: 0.75 | BS2: 1 | BT2: 0 | BU2: 0.25 | BV2: 0.5 | BW2: 0.75 | BX2: 1
A3: Allein gegen Torwart | B3: 0 | C3: 0 | D3: 0 | E3: 0 | F3: 0 | G3: 0 | H3: 0.5 | I3: 0 | J3: 0.75 | K3: 1 | L3: 1 | N3: 2 | O3: =(N3-1)/2 -> 0.5 | P3: =0.1+0.1/14*(N3-1) -> 0.10714286 | Q3: 3.2321429 | R3: 0.66071429 | T3: LI | V3: Elfmeter | Z3: Abstöße | AA3: KEINE | AB3: Kreativität | AC3: Ausdauer | AD3: Antritt | AE3: Aufbauspiel | AF3: KEINE | AG3: Kreativität | AH3: Ausdauer | AI3: Ballbehauptung | AJ3: Antritt | AK3: KEINE | AL3: Kopfball | AM3: Ausdauer | AN3: Stellungsspiel | AO3: Antritt | AP3: KEINE | AQ3: Kreativität | AR3: Volleys | AS3: Schnelligkeit | AT3: Antritt | AU3: KEINE | AV3: Flanken | AW3: Ballgewinne | AY3: Antritt | AZ3: KEINE | BA3: Flanken | BB3: Allein gegen Torwart | BC3: Torriecher | BD3: Antritt | BE3: KEINE | BF3: Kopfball | BG3: Kreativität | BH3: Antritt | BI3: Ausdauer | BJ3: KEINE | BK3: Ballgewinne | BL3: Kurze Pässe | BM3: Allein gegen Torwart | BN3: Antritt | BO3: KEINE | BP3: Flanken | BQ3: Ballgewinne | BR3: Ausdauer | BS3: Allein gegen Torwart | BT3: KEINE | BU3: Flanken | BV3: Ballgewinne | BW3: Ausdauer | BX3: Allein gegen Torwart
A4: Antritt | B4: 0 | C4: 0.75 | D4: 1 | E4: 1 | F4: 1 | G4: 1 | H4: 1 | I4: 0.75 | J4: 1 | K4: 1 | L4: 1 | N4: 3 | O4: =(N4-1)/2 -> 1 | P4: =0.1+0.1/14*(N4-1) -> 0.11428571 | Q4: 4.2571429 | R4: 1.5142857 | T4: IV | V4: Freistöße | Z4: Abwürfe | AA4: Allein gegen Torwart | AB4: Manndeckung | AC4: Kurze Pässe | AD4: Ballbehauptung | AE4: Ballgewinne | AF4: Allein gegen Torwart | AG4: Volleys | AH4: Kurze Pässe | AI4: Lange Pässe | AJ4: Aufbauspiel | AK4: Allein gegen Torwart | AL4: Kreativität | AM4: Ballbehauptung | AO4: Aufbauspiel | AP4: Allein gegen Torwart | AQ4: Torriecher | AS4: Schusskraft | AT4: Aufbauspiel | AU4: Allein gegen Torwart | AV4: Manndeckung | AW4: Kopfball | AY4: Ausdauer | AZ4: Aufbauspiel | BA4: Stellungsspiel | BB4: Ballgewinne | BC4: Volleys | BD4: Ausdauer | BE4: Allein gegen Torwart | BF4: Manndeckung | BG4: Kurze Pässe | BH4: Ballbehauptung | BI4: Flanken | BJ4: Aufbauspiel | BK4: Kopfball | BL4: Lange Pässe | BM4: Ballbehauptung | BN4: Ausdauer | BO4: Aufbauspiel | BP4: Stellungsspiel | BQ4: Lange Pässe | BR4: Kopfball | BS4: Antritt | BT4: Aufbauspiel | BU4: Stellungsspiel | BV4: Kurze Pässe | BW4: Dribbling | BX4: Antritt
A5: Aufbauspiel | B5: 0 | C5: 1 | D5: 1 | E5: 1 | F5: 1 | G5: 0 | H5: 0 | I5: 0 | J5: 0 | K5: 0 | L5: 0 | N5: 4 | O5: =(N5-1)/2 -> 1.5 | P5: =0.1+0.1/14*(N5-1) -> 0.12142857 | Q5: 5.275 | R5: 2.3607143 | T5: LV/RV | V5: KEINE | Z5: Aktives Mitspielen | AA5: Dribbling | AB5: Volleys | AC5: Schusskraft | AD5: Lange Pässe | AE5: Kopfball | AF5: Dribbling | AH5: Schusskraft | AJ5: Ballgewinne | AK5: Dribbling | AL5: Schusskraft | AM5: Kurze Pässe | AO5: Ballgewinne | AP5: Dribbling | AS5: Schusstechnik | AT5: Ausdauer | AU5: Aufbauspiel | AW5: Stellungsspiel | AY5: Ballbehauptung | AZ5: Ecken | BB5: Kopfball | BD5: Ballbehauptung | BE5: Aufbauspiel | BF5: Übersicht | BG5: Schusskraft | BH5: Ballgewinne | BI5: Schnelligkeit | BJ5: Ecken | BK5: Übersicht | BL5: Schusskraft | BM5: Technik | BN5: Dribbling | BO5: Ecken | BQ5: Übersicht | BR5: Kreativität | BS5: Ballbehauptung | BT5: Ecken | BU5: Übersicht | BW5: Kreativität | BX5: Ballbehauptung
A6: Ausdauer | B6: 0 | C6: 0.5 | D6: 0.5 | E6: 0.5 | F6: 1 | G6: 1 | H6: 1 | I6: 1 | J6: 1 | K6: 0.75 | L6: 0.75 | N6: 5 | O6: =(N6-1)/2 -> 2 | P6: =0.1+0.1/14*(N6-1) -> 0.12857143 | Q6: 6.2857143 | R6: 3.2 | T6: DM | V6: Allein gegen Torwart | Z6: Eins gegen eins | AA6: Ecken | AC6: Schusstechnik | AE6: Schnelligkeit | AF6: Ecken | AH6: Schusstechnik | AJ6: Kopfball | AK6: Ecken | AL6: Schusstechnik | AM6: Lange Pässe | AO6: Flanken | AP6: Ecken | AS6: Technik | AT6: Ballbehauptung | AU6: Ecken | AW6: Torriecher | AY6: Dribbling | AZ6: Einwürfe | BD6: Dribbling | BE6: Ecken | BG6: Schusstechnik | BH6: Dribbling | BJ6: Einwürfe | BK6: Volleys | BL6: Schusstechnik | BN6: Flanken | BO6: Einwürfe | BR6: Kurze Pässe | BS6: Dribbling | BT6: Einwürfe | BX6: Kopfball
A7: Ballbehauptung | B7: 0 | C7: 0.75 | D7: 0.75 | E7: 0.5 | F7: 1 | G7: 1 | H7: 1 | I7: 0.75 | J7: 0.75 | K7: 1 | L7: 1 | N7: 6 | O7: =(N7-1)/2 -> 2.5 | P7: =0.1+0.1/14*(N7-1) -> 0.13571429 | Q7: 7.2892857 | R7: 4.0321429 | T7: ZM | V7: Antritt | Z7: Fangsicherheit | AA7: Einwürfe | AC7: Technik | AE7: Stellungsspiel | AF7: Einwürfe | AH7: Technik | AJ7: Manndeckung | AK7: Einwürfe | AM7: Manndeckung | AO7: Schnelligkeit | AP7: Einwürfe | AT7: Ballgewinne | AU7: Einwürfe | AW7: Volleys | AY7: Kreativität | AZ7: Elfmeter | BD7: Kreativität | BE7: Einwürfe | BG7: Stellungsspiel | BH7: Lange Pässe | BJ7: Elfmeter | BL7: Torriecher | BN7: Kreativität | BO7: Elfmeter | BR7: Torriecher | BS7: Schnelligkeit | BT7: Elfmeter | BX7: Schnelligkeit
A8: Ballgewinne | B8: 0 | C8: 1 | D8: 1 | E8: 1 | F8: 1 | G8: 0.5 | H8: 0.5 | I8: 0.75 | J8: 0.25 | K8: 0.5 | L8: 0.5 | N8: 7 | O8: =(N8-1)/2 -> 3 | P8: =0.1+0.1/14*(N8-1) -> 0.14285714 | Q8: 8.2857143 | R8: 4.8571429 | T8: OM | V8: Aufbauspiel | Z8: Fausten | AA8: Elfmeter | AE8: Übersicht | AF8: Elfmeter | AJ8: Schnelligkeit | AK8: Elfmeter | AM8: Technik | AO8: Zweikampf | AP8: Elfmeter | AT8: Kopfball | AU8: Elfmeter | AW8: Zweikampf | AY8: Kurze Pässe | AZ8: Freistöße | BD8: Kurze Pässe | BE8: Elfmeter | BG8: Torriecher | BH8: Technik | BJ8: Freistöße | BN8: Schnelligkeit | BO8: Freistöße | BS8: Schusskraft | BT8: Freistöße | BX8: Schusskraft
A9: Dribbling | B9: 0 | C9: 0 | D9: 0 | E9: 0 | F9: 0 | G9: 1 | H9: 1 | I9: 0.75 | J9: 1 | K9: 1 | L9: 0.75 | N9: 8 | O9: =(N9-1)/2 -> 3.5 | P9: =0.1+0.1/14*(N9-1) -> 0.15 | Q9: 9.275 | R9: 5.675 | T9: LM/RM | V9: Ausdauer | Z9: Paraden | AA9: Flanken | AE9: Zweikampf | AF9: Flanken | AJ9: Stellungsspiel | AK9: Freistöße | AM9: Übersicht | AP9: Flanken | AT9: Kurze Pässe | AU9: Freistöße | AY9: Lange Pässe | AZ9: Manndeckung | BD9: Lange Pässe | BE9: Freistöße | BG9: Zweikampf | BJ9: Manndeckung | BO9: Manndeckung | BS9: Schusstechnik | BT9: Lange Pässe | BX9: Schusstechnik
A10: Ecken | B10: 0 | C10: 0 | D10: 0 | E10: 0 | F10: 0 | G10: 0 | H10: 0 | I10: 0 | J10: 0 | K10: 0 | L10: 0 | N10: 9 | O10: =(N10-1)/2 -> 4 | P10: =0.1+0.1/14*(N10-1) -> 0.15714286 | Q10: 10.257143 | R10: 6.4857143 | T10: LS/RS | V10: Ballbehauptung | Z10: Reflexe | AA10: Freistöße | AF10: Freistöße | AJ10: Übersicht | AK10: Torriecher | AP10: Freistöße | AT10: Lange Pässe | AU10: Abstöße | AY10: Schnelligkeit | AZ10: Zweikampf | BD10: Schnelligkeit | BE10: Volleys | BJ10: Stellungsspiel | BO10: Zweikampf | BS10: Technik | BT10: Manndeckung | BX10: Technik
A11: Einwürfe | B11: 0 | C11: 0 | D11: 0 | E11: 0 | F11: 0 | G11: 0 | H11: 0 | I11: 0 | J11: 0 | K11: 0 | L11: 0 | N11: 10 | O11: =(N11-1)/2 -> 4.5 | P11: =0.1+0.1/14*(N11-1) -> 0.16428571 | Q11: 11.232143 | R11: 7.2892857 | T11: HS | V11: Ballgewinne | Z11: Strafraumbeherrschung | AA11: Torriecher | AF11: Torriecher | AJ11: Zweikampf | AK11: Volleys | AP11: Abstöße | AT11: Manndeckung | AU11: Abwürfe | AY11: Schusskraft | AZ11: Abstöße | BD11: Schusskraft | BE11: Abstöße | BJ11: Zweikampf | BO11: Abstöße | BS11: Volleys | BT11: Zweikampf | BX11: Torriecher
A12: Elfmeter | B12: 0 | C12: 0 | D12: 0 | E12: 0 | F12: 0 | G12: 0 | H12: 0 | I12: 0 | J12: 0 | K12: 0 | L12: 0 | N12: 11 | O12: =(N12-1)/2 -> 5 | P12: =0.1+0.1/14*(N12-1) -> 0.17142857 | Q12: 12.2 | R12: 8.0857143 | T12: ST | V12: Dribbling | AA12: Abstöße | AF12: Abstöße | AK12: Abstöße | AP12: Abwürfe | AT12: Stellungsspiel | AU12: Aktives Mitspielen | AY12: Schusstechnik | AZ12: Abwürfe | BD12: Schusstechnik | BE12: Abwürfe | BJ12: Abstöße | BO12: Abwürfe | BT12: Abstöße | BX12: Volleys
A13: Flanken | B13: 0 | C13: 0 | D13: 0 | E13: 1 | F13: 0 | G13: 0.25 | H13: 0.25 | I13: 1 | J13: 1 | K13: 0.25 | L13: 0.25 | N13: 12 | O13: =(N13-1)/2 -> 5.5 | P13: =0.1+0.1/14*(N13-1) -> 0.17857143 | Q13: 13.160714 | R13: 8.875 | V13: Ecken | AA13: Abwürfe | AF13: Abwürfe | AK13: Abwürfe | AP13: Aktives Mitspielen | AT13: Übersicht | AU13: Eins gegen eins | AY13: Technik | AZ13: Aktives Mitspielen | BD13: Technik | BE13: Aktives Mitspielen | BJ13: Abwürfe | BO13: Aktives Mitspielen | BT13: Abwürfe
A14: Freistöße | B14: 0 | C14: 0 | D14: 0 | E14: 0 | F14: 0 | G14: 0 | H14: 0 | I14: 0 | J14: 0 | K14: 0 | L14: 0 | N14: 13 | O14: =(N14-1)/2 -> 6 | P14: =0.1+0.1/14*(N14-1) -> 0.18571429 | Q14: 14.114286 | R14: 9.6571429 | V14: Einwürfe | AA14: Aktives Mitspielen | AF14: Aktives Mitspielen | AK14: Aktives Mitspielen | AP14: Eins gegen eins | AT14: Zweikampf | AU14: Elfmeter | AY14: Übersicht | AZ14: Eins gegen eins | BD14: Übersicht | BE14: Eins gegen eins | BJ14: Aktives Mitspielen | BO14: Eins gegen eins | BT14: Aktives Mitspielen
A15: Kopfball | B15: 0 | C15: 1 | D15: 1 | E15: 0.25 | F15: 1 | G15: 0.5 | H15: 0.5 | I15: 0.25 | J15: 0.25 | K15: 0.75 | L15: 1 | N15: 14 | O15: =(N15-1)/2 -> 6.5 | P15: =0.1+0.1/14*(N15-1) -> 0.19285714 | Q15: 15.060714 | R15: 10.432143 | V15: Elfmeter | AA15: Eins gegen eins | AF15: Eins gegen eins | AK15: Eins gegen eins | AP15: Elfmeter | AU15: Fangsicherheit | AZ15: Elfmeter | BE15: Elfmeter | BJ15: Eins gegen eins | BO15: Elfmeter | BT15: Eins gegen eins
A16: Kreativität | B16: 0 | C16: 0.25 | D16: 0.25 | E16: 0.25 | F16: 0.25 | G16: 1 | H16: 1 | I16: 0.5 | J16: 1 | K16: 0.75 | L16: 0.75 | N16: 15 | O16: =(N16-1)/2 -> 7 | P16: =0.1+0.1/14*(N16-1) -> 0.2 | Q16: 16 | R16: 11.2 | V16: Flanken | AA16: Elfmeter | AF16: Elfmeter | AK16: Elfmeter | AP16: Fangsicherheit | AU16: Fausten | AZ16: Fangsicherheit | BE16: Fangsicherheit | BJ16: Elfmeter | BO16: Fangsicherheit | BT16: Elfmeter
A17: Kurze Pässe | B17: 0 | C17: 0.5 | D17: 0.5 | E17: 0.5 | F17: 1 | G17: 1 | H17: 1 | I17: 0.5 | J17: 0.5 | K17: 0.75 | L17: 0.5 | N17: 16 | O17: =(N17-1)/2 -> 7.5 | P17: =0.1+0.1/14*(N17-1) -> 0.20714286 | Q17: 16.932143 | R17: 11.960714 | V17: Freistöße | AA17: Fangsicherheit | AF17: Fangsicherheit | AK17: Fangsicherheit | AP17: Fausten | AU17: Freistöße | AZ17: Fausten | BE17: Fausten | BJ17: Fangsicherheit | BO17: Fausten | BT17: Fangsicherheit
A18: Lange Pässe | B18: 0 | C18: 0.75 | D18: 0.75 | E18: 0.5 | F18: 1 | G18: 1 | H18: 1 | I18: 0.75 | J18: 0.5 | K18: 0.5 | L18: 0 | N18: 17 | O18: =(N18-1)/2 -> 8 | P18: =0.1+0.1/14*(N18-1) -> 0.21428571 | Q18: 17.857143 | R18: 12.714286 | V18: Kopfball | AA18: Fausten | AF18: Fausten | AK18: Fausten | AP18: Freistöße | AU18: Paraden | AZ18: Freistöße | BE18: Freistöße | BJ18: Fausten | BO18: Freistöße | BT18: Fausten
A19: Manndeckung | B19: 0 | C19: 0.25 | D19: 1 | E19: 0.5 | F19: 1 | G19: 0.25 | H19: 0 | I19: 0.25 | J19: 0 | K19: 0 | L19: 0 | N19: 18 | O19: =(N19-1)/2 -> 8.5 | P19: =0.1+0.1/14*(N19-1) -> 0.22142857 | Q19: 18.775 | R19: 13.460714 | V19: Kreativität | AA19: Freistöße | AF19: Freistöße | AK19: Freistöße | AP19: Paraden | AU19: Reflexe | AZ19: Paraden | BE19: Paraden | BJ19: Freistöße | BO19: Paraden | BT19: Freistöße
A20: Schnelligkeit | B20: 0 | C20: 1 | D20: 1 | E20: 1 | F20: 0.75 | G20: 1 | H20: 1 | I20: 1 | J20: 1 | K20: 1 | L20: 1 | N20: 19 | O20: =(N20-1)/2 -> 9 | P20: =0.1+0.1/14*(N20-1) -> 0.22857143 | Q20: 19.685714 | R20: 14.2 | V20: Kurze Pässe | AA20: Paraden | AF20: Paraden | AK20: Paraden | AP20: Reflexe | AU20: Strafraumbeherrschung | AZ20: Reflexe | BE20: Reflexe | BJ20: Paraden | BO20: Reflexe | BT20: Paraden
A21: Schusskraft | B21: 0 | C21: 0.5 | D21: 0.5 | E21: 0.25 | F21: 0.75 | G21: 1 | H21: 1 | I21: 0.5 | J21: 0.5 | K21: 1 | L21: 1 | N21: 20 | O21: =(N21-1)/2 -> 9.5 | P21: =0.1+0.1/14*(N21-1) -> 0.23571429 | Q21: 20.589286 | R21: 14.932143 | V21: Lange Pässe | AA21: Reflexe | AF21: Reflexe | AK21: Reflexe | AP21: Strafraumbeherrschung | AZ21: Strafraumbeherrschung | BE21: Strafraumbeherrschung | BJ21: Reflexe | BO21: Strafraumbeherrschung | BT21: Reflexe
A22: Schusstechnik | B22: 0 | C22: 0.5 | D22: 0.5 | E22: 0.25 | F22: 0.75 | G22: 1 | H22: 1 | I22: 0.5 | J22: 0.5 | K22: 1 | L22: 1 | V22: Manndeckung | AA22: Strafraumbeherrschung | AF22: Strafraumbeherrschung | AK22: Strafraumbeherrschung | BJ22: Strafraumbeherrschung | BT22: Strafraumbeherrschung
A23: Stellungsspiel | B23: 0 | C23: 1 | D23: 1 | E23: 0.75 | F23: 1 | G23: 0.5 | H23: 0.25 | I23: 0.5 | J23: 0 | K23: 0.25 | L23: 0.25 | V23: Schnelligkeit
A24: Technik | B24: 0 | C24: 0.5 | D24: 0.5 | E24: 0.5 | F24: 0.75 | G24: 1 | H24: 1 | I24: 0.75 | J24: 0.75 | K24: 1 | L24: 1 | N24: Fähigkeit-Lv: | V24: Schusskraft
A25: Torriecher | B25: 0 | C25: 0 | D25: 0 | E25: 0 | F25: 0.25 | G25: 0.5 | H25: 0.75 | I25: 0.5 | J25: 0.5 | K25: 0.75 | L25: 1 | N25: + | V25: Schusstechnik
A26: Übersicht | B26: 0 | C26: 1 | D26: 1 | E26: 0.5 | F26: 1 | G26: 1 | H26: 1 | I26: 0.25 | J26: 0.25 | K26: 0.5 | L26: 0.25 | N26: ++ | V26: Stellungsspiel
A27: Volleys | B27: 0 | C27: 0.25 | D27: 0.25 | E27: 0 | F27: 0.5 | G27: 0.5 | H27: 0.75 | I27: 0 | J27: 0.25 | K27: 1 | L27: 1 | V27: Technik
A28: Zweikampf | B28: 0 | C28: 1 | D28: 1 | E28: 1 | F28: 1 | G28: 0.5 | H28: 0 | I28: 0.5 | J28: 0 | K28: 0 | L28: 0 | V28: Torriecher
A29: Abstöße | B29: 1 | C29: 0 | D29: 0 | E29: 0 | F29: 0 | G29: 0 | H29: 0 | I29: 0 | J29: 0 | K29: 0 | L29: 0 | V29: Übersicht
A30: Abwürfe | B30: 1 | C30: 0 | D30: 0 | E30: 0 | F30: 0 | G30: 0 | H30: 0 | I30: 0 | J30: 0 | K30: 0 | L30: 0 | V30: Volleys
A31: Aktives Mitspielen | B31: 1 | C31: 0 | D31: 0 | E31: 0 | F31: 0 | G31: 0 | H31: 0 | I31: 0 | J31: 0 | K31: 0 | L31: 0 | V31: Zweikampf
A32: Eins gegen eins | B32: 1 | C32: 0 | D32: 0 | E32: 0 | F32: 0 | G32: 0 | H32: 0 | I32: 0 | J32: 0 | K32: 0 | L32: 0
A33: Elfmeter | B33: 0 | C33: 0 | D33: 0 | E33: 0 | F33: 0 | G33: 0 | H33: 0 | I33: 0 | J33: 0 | K33: 0 | L33: 0
A34: Fangsicherheit | B34: 1 | C34: 0 | D34: 0 | E34: 0 | F34: 0 | G34: 0 | H34: 0 | I34: 0 | J34: 0 | K34: 0 | L34: 0
A35: Fausten | B35: 1 | C35: 0 | D35: 0 | E35: 0 | F35: 0 | G35: 0 | H35: 0 | I35: 0 | J35: 0 | K35: 0 | L35: 0
A36: Freistöße | B36: 0 | C36: 0 | D36: 0 | E36: 0 | F36: 0 | G36: 0 | H36: 0 | I36: 0 | J36: 0 | K36: 0 | L36: 0
A37: Paraden | B37: 1 | C37: 0 | D37: 0 | E37: 0 | F37: 0 | G37: 0 | H37: 0 | I37: 0 | J37: 0 | K37: 0 | L37: 0
A38: Reflexe | B38: 1 | C38: 0 | D38: 0 | E38: 0 | F38: 0 | G38: 0 | H38: 0 | I38: 0 | J38: 0 | K38: 0 | L38: 0
A39: Strafraumbeherrschung | B39: 1 | C39: 0 | D39: 0 | E39: 0 | F39: 0 | G39: 0 | H39: 0 | I39: 0 | J39: 0 | K39: 0 | L39: 0

Sheet Bilder
A1: 1
A2: 2
A3: 3
A4: 4
A5: 5
A6: 6
A7: 7
A8: 8
A9: 9
A10: 10
A11: 11
A12: 12
... A20: 20
