Workbook
Name StärkeSpieler: INDEX(Bilder!$B$1:$B$20,Stärkeberechnung!$B$1)

Sheet Stärkeberechnung
A1: Stärke: | B1: 1
A2: Position: | B2: 1
A3: Erwartete Fähigkeiten: | B3: Fähigkeit 1: | C3: 1 | D3: Stufe: | E3: 1 | F3: {=INDEX(Admindaten!$B$2:$L$39,Stärkeberechnung!C3,Stärkeberechnung!$B$2)*E3} -> 0
B4: Fähigkeit 2: | C4: 1 | D4: Stufe: | E4: 1 | F4: {=INDEX(Admindaten!$B$2:$L$39,Stärkeberechnung!C4,Stärkeberechnung!$B$2)*E4} -> 0
B5: Fähigkeit 3: | C5: 1 | D5: Stufe: | E5: 1 | F5: {=INDEX(Admindaten!$B$2:$L$39,Stärkeberechnung!C5,Stärkeberechnung!$B$2)*E5} -> 0
B6: Fähigkeit 4: | C6: 1 | D6: Stufe: | E6: 1 | F6: {=INDEX(Admindaten!$B$2:$L$39,Stärkeberechnung!C6,Stärkeberechnung!$B$2)*E6} -> 0
B7: Fähigkeit 5: | C7: 1 | D7: Stufe: | E7: 1 | F7: {=INDEX(Admindaten!$B$2:$L$39,Stärkeberechnung!C7,Stärkeberechnung!$B$2)*E7} -> 0
B8: Fähigkeit 6: | C8: 1 | D8: Stufe: | E8: 1 | F8: {=INDEX(Admindaten!$B$2:$L$39,Stärkeberechnung!C8,Stärkeberechnung!$B$2)*E8} -> 0
B9: Fähigkeit 7: | C9: 1 | D9: Stufe: | E9: 1 | F9: {=INDEX(Admindaten!$B$2:$L$39,Stärkeberechnung!C9,Stärkeberechnung!$B$2)*E9} -> 0
B10: Fähigkeit 8: | C10: 1 | D10: Stufe: | E10: 1 | F10: {=INDEX(Admindaten!$B$2:$L$39,Stärkeberechnung!C10,Stärkeberechnung!$B$2)*E10} -> 0
B11: Fähigkeit 9: | C11: 1 | D11: Stufe: | E11: 1 | F11: {=INDEX(Admindaten!$B$2:$L$39,Stärkeberechnung!C11,Stärkeberechnung!$B$2)*E11} -> 0
B12: Fähigkeit 10: | C12: 1 | D12: Stufe: | E12: 1 | F12: {=INDEX(Admindaten!$B$2:$L$39,Stärkeberechnung!C12,Stärkeberechnung!$B$2)*E12} -> 0
A13: Punkte: | F13: =SUM(F3:F12) -> 0
A14: Stärke Spieler: | F14: =VLOOKUP($B$1,Admindaten!N2:R21,1,FALSE)-(VLOOKUP($B$1,Admindaten!N2:R21,2,FALSE)*VLOOKUP($B$1,Admindaten!N2:R21,3,FALSE))+(VLOOKUP($B$1,Admindaten!N2:R21,3,FALSE))*$F$13 -> 1
A15: Maximalstärke Spieler: | F15: =VLOOKUP($B$1,Admindaten!N2:R21,1,FALSE)-(VLOOKUP($B$1,Admindaten!N2:R21,2,FALSE)*VLOOKUP($B$1,Admindaten!N2:R21,3,FALSE))+(VLOOKUP($B$1,Admindaten!N2:R21,3,FALSE))*IF($B$2=8,10.5,12) -> 2.2
A16: Minimumstärke Spieler: | F16: =VLOOKUP($B$1,Admindaten!N2:R21,1,FALSE)-(VLOOKUP($B$1,Admindaten!N2:R21,2,FALSE)*VLOOKUP($B$1,Admindaten!N2:R21,3,FALSE))+(VLOOKUP($B$1,Admindaten!N2:R21,3,FALSE))*IF($B$2=8,-10.75,-12) -> -0.2

Sheet Admindaten
A1: Fähigkeit | B1: TW | C1: LI | D1: IV | E1: LV/RV | F1: DM | G1: ZM | H1: OM | I1: LM/RM | J1: LS/RS | K1: HS | L1: ST | N1: Stufe | O1: Erwartete Fähigkeiten | P1: Stärke pro Fähigkeit | Q1: Maximale Stärke | R1: Minimale Stärke | T1: Positionen
A2: KEINE | B2: 0 | C2: 0 | D2: 0 | E2: 0 | F2: 0 | G2: 0 | H2: 0 | I2: 0 | J2: 0 | K2: 0 | L2: 0 | N2: 1 | O2: =(N2-1)/2 -> 0 | P2: =0.1+0.1/14*(N2-1) -> 0.1 | Q2: 2.2 | R2: 0 | T2: {=TRANSPOSE($B$1:$L$1)} -> TW
A3: Allein gegen Torwart | B3: 0 | C3: 0 | D3: 0 | E3: 0 | F3: 0 | G3: 0 | H3: 0.5 | I3: 0 | J3: 0.75 | K3: 1 | L3: 1 | N3: 2 | O3: =(N3-1)/2 -> 0.5 | P3: =0.1+0.1/14*(N3-1) -> 0.10714286 | Q3: 3.2321429 | R3: 0.66071429 | T3: LI
A4: Antritt | B4: 0 | C4: 0.75 | D4: 1 | E4: 1 | F4: 1 | G4: 1 | H4: 1 | I4: 0.75 | J4: 1 | K4: 1 | L4: 1 | N4: 3 | O4: =(N4-1)/2 -> 1 | P4: =0.1+0.1/14*(N4-1) -> 0.11428571 | Q4: 4.2571429 | R4: 1.5142857 | T4: IV
A5: Aufbauspiel | B5: 0 | C5: 1 | D5: 1 | E5: 1 | F5: 1 | G5: 0 | H5: 0 | I5: 0 | J5: 0 | K5: 0 | L5: 0 | N5: 4 | O5: =(N5-1)/2 -> 1.5 | P5: =0.1+0.1/14*(N5-1) -> 0.12142857 | Q5: 5.275 | R5: 2.3607143 | T5: LV/RV
A6: Ausdauer | B6: 0 | C6: 0.5 | D6: 0.5 | E6: 0.5 | F6: 1 | G6: 1 | H6: 1 | I6: 1 | J6: 1 | K6: 0.75 | L6: 0.75 | N6: 5 | O6: =(N6-1)/2 -> 2 | P6: =0.1+0.1/14*(N6-1) -> 0.12857143 | Q6: 6.2857143 | R6: 3.2 | T6: DM
A7: Ballbehauptung | B7: 0 | C7: 0.75 | D7: 0.75 | E7: 0.5 | F7: 1 | G7: 1 | H7: 1 | I7: 0.75 | J7: 0.75 | K7: 1 | L7: 1 | N7: 6 | O7: =(N7-1)/2 -> 2.5 | P7: =0.1+0.1/14*(N7-1) -> 0.13571429 | Q7: 7.2892857 | R7: 4.0321429 | T7: ZM
A8: Ballgewinne | B8: 0 | C8: 1 | D8: 1 | E8: 1 | F8: 1 | G8: 0.5 | H8: 0.5 | I8: 0.75 | J8: 0.25 | K8: 0.5 | L8: 0.5 | N8: 7 | O8: =(N8-1)/2 -> 3 | P8: =0.1+0.1/14*(N8-1) -> 0.14285714 | Q8: 8.2857143 | R8: 4.8571429 | T8: OM
A9: Dribbling | B9: 0 | C9: 0 | D9: 0 | E9: 0 | F9: 0 | G9: 1 | H9: 1 | I9: 0.75 | J9: 1 | K9: 1 | L9: 0.75 | N9: 8 | O9: =(N9-1)/2 -> 3.5 | P9: =0.1+0.1/14*(N9-1) -> 0.15 | Q9: 9.275 | R9: 5.675 | T9: LM/RM
A10: Ecken | B10: 0 | C10: 0 | D10: 0 | E10: 0 | F10: 0 | G10: 0 | H10: 0 | I10: 0 | J10: 0 | K10: 0 | L10: 0 | N10: 9 | O10: =(N10-1)/2 -> 4 | P10: =0.1+0.1/14*(N10-1) -> 0.15714286 | Q10: 10.257143 | R10: 6.4857143 | T10: LS/RS
A11: Einwürfe | B11: 0 | C11: 0 | D11: 0 | E11: 0 | F11: 0 | G11: 0 | H11: 0 | I11: 0 | J11: 0 | K11: 0 | L11: 0 | N11: 10 | O11: =(N11-1)/2 -> 4.5 | P11: =0.1+0.1/14*(N11-1) -> 0.16428571 | Q11: 11.232143 | R11: 7.2892857 | T11: HS
A12: Elfmeter | B12: 0 | C12: 0 | D12: 0 | E12: 0 | F12: 0 | G12: 0 | H12: 0 | I12: 0 | J12: 0 | K12: 0 | L12: 0 | N12: 11 | O12: =(N12-1)/2 -> 5 | P12: =0.1+0.1/14*(N12-1) -> 0.17142857 | Q12: 12.2 | R12: 8.0857143 | T12: ST
A13: Flanken | B13: 0 | C13: 0 | D13: 0 | E13: 1 | F13: 0 | G13: 0.25 | H13: 0.25 | I13: 1 | J13: 1 | K13: 0.25 | L13: 0.25 | N13: 12 | O13: =(N13-1)/2 -> 5.5 | P13: =0.1+0.1/14*(N13-1) -> 0.17857143 | Q13: 13.160714 | R13: 8.875
A14: Freistöße | B14: 0 | C14: 0 | D14: 0 | E14: 0 | F14: 0 | G14: 0 | H14: 0 | I14: 0 | J14: 0 | K14: 0 | L14: 0 | N14: 13 | O14: =(N14-1)/2 -> 6 | P14: =0.1+0.1/14*(N14-1) -> 0.18571429 | Q14: 14.114286 | R14: 9.6571429
A15: Kopfball | B15: 0 | C15: 1 | D15: 1 | E15: 0.25 | F15: 1 | G15: 0.5 | H15: 0.5 | I15: 0.25 | J15: 0.25 | K15: 0.75 | L15: 1 | N15: 14 | O15: =(N15-1)/2 -> 6.5 | P15: =0.1+0.1/14*(N15-1) -> 0.19285714 | Q15: 15.060714 | R15: 10.432143
A16: Kreativität | B16: 0 | C16: 0.25 | D16: 0.25 | E16: 0.25 | F16: 0.25 | G16: 1 | H16: 1 | I16: 0.5 | J16: 1 | K16: 0.75 | L16: 0.75 | N16: 15 | O16: =(N16-1)/2 -> 7 | P16: =0.1+0.1/14*(N16-1) -> 0.2 | Q16: 16 | R16: 11.2
A17: Kurze Pässe | B17: 0 | C17: 0.5 | D17: 0.5 | E17: 0.5 | F17: 1 | G17: 1 | H17: 1 | I17: 0.5 | J17: 0.5 | K17: 0.75 | L17: 0.5 | N17: 16 | O17: =(N17-1)/2 -> 7.5 | P17: =0.1+0.1/14*(N17-1) -> 0.20714286 | Q17: 16.932143 | R17: 11.960714
A18: Lange Pässe | B18: 0 | C18: 0.75 | D18: 0.75 | E18: 0.5 | F18: 1 | G18: 1 | H18: 1 | I18: 0.75 | J18: 0.5 | K18: 0.5 | L18: 0 | N18: 17 | O18: =(N18-1)/2 -> 8 | P18: =0.1+0.1/14*(N18-1) -> 0.21428571 | Q18: 17.857143 | R18: 12.714286
A19: Manndeckung | B19: 0 | C19: 0.25 | D19: 1 | E19: 0.5 | F19: 1 | G19: 0.25 | H19: 0 | I19: 0.25 | J19: 0 | K19: 0 | L19: 0 | N19: 18 | O19: =(N19-1)/2 -> 8.5 | P19: =0.1+0.1/14*(N19-1) -> 0.22142857 | Q19: 18.775 | R19: 13.460714
A20: Schnelligkeit | B20: 0 | C20: 1 | D20: 1 | E20: 1 | F20: 0.75 | G20: 1 | H20: 1 | I20: 1 | J20: 1 | K20: 1 | L20: 1 | N20: 19 | O20: =(N20-1)/2 -> 9 | P20: =0.1+0.1/14*(N20-1) -> 0.22857143 | Q20: 19.685714 | R20: 14.2
A21: Schusskraft | B21: 0 | C21: 0.5 | D21: 0.5 | E21: 0.25 | F21: 0.75 | G21: 1 | H21: 1 | I21: 0.5 | J21: 0.5 | K21: 1 | L21: 1 | N21: 20 | O21: =(N21-1)/2 -> 9.5 | P21: =0.1+0.1/14*(N21-1) -> 0.23571429 | Q21: 20.589286 | R21: 14.932143
A22: Schusstechnik | B22: 0 | C22: 0.5 | D22: 0.5 | E22: 0.25 | F22: 0.75 | G22: 1 | H22: 1 | I22: 0.5 | J22: 0.5 | K22: 1 | L22: 1
A23: Stellungsspiel | B23: 0 | C23: 1 | D23: 1 | E23: 0.75 | F23: 1 | G23: 0.5 | H23: 0.25 | I23: 0.5 | J23: 0 | K23: 0.25 | L23: 0.25
A24: Technik | B24: 0 | C24: 0.5 | D24: 0.5 | E24: 0.5 | F24: 0.75 | G24: 1 | H24: 1 | I24: 0.75 | J24: 0.75 | K24: 1 | L24: 1 | N24: Fähigkeit-Lv:
A25: Torriecher | B25: 0 | C25: 0 | D25: 0 | E25: 0 | F25: 0.25 | G25: 0.5 | H25: 0.75 | I25: 0.5 | J25: 0.5 | K25: 0.75 | L25: 1 | N25: +
A26: Übersicht | B26: 0 | C26: 1 | D26: 1 | E26: 0.5 | F26: 1 | G26: 1 | H26: 1 | I26: 0.25 | J26: 0.25 | K26: 0.5 | L26: 0.25 | N26: ++
A27: Volleys | B27: 0 | C27: 0.25 | D27: 0.25 | E27: 0 | F27: 0.5 | G27: 0.5 | H27: 0.75 | I27: 0 | J27: 0.25 | K27: 1 | L27: 1
A28: Zweikampf | B28: 0 | C28: 1 | D28: 1 | E28: 1 | F28: 1 | G28: 0.5 | H28: 0 | I28: 0.5 | J28: 0 | K28: 0 | L28: 0
A29: Abstöße | B29: 1 | C29: 0 | D29: 0 | E29: 0 | F29: 0 | G29: 0 | H29: 0 | I29: 0 | J29: 0 | K29: 0 | L29: 0
A30: Abwürfe | B30: 1 | C30: 0 | D30: 0 | E30: 0 | F30: 0 | G30: 0 | H30: 0 | I30: 0 | J30: 0 | K30: 0 | L30: 0
A31: Aktives Mitspielen | B31: 1 | C31: 0 | D31: 0 | E31: 0 | F31: 0 | G31: 0 | H31: 0 | I31: 0 | J31: 0 | K31: 0 | L31: 0
A32: Eins gegen eins | B32: 1 | C32: 0 | D32: 0 | E32: 0 | F32: 0 | G32: 0 | H32: 0 | I32: 0 | J32: 0 | K32: 0 | L32: 0
A33: Elfmeter | B33: 0 | C33: 0 | D33: 0 | E33: 0 | F33: 0 | G33: 0 | H33: 0 | I33: 0 | J33: 0 | K33: 0 | L33: 0
A34: Fangsicherheit | B34: 1 | C34: 0 | D34: 0 | E34: 0 | F34: 0 | G34: 0 | H34: 0 | I34: 0 | J34: 0 | K34: 0 | L34: 0
A35: Fausten | B35: 1 | C35: 0 | D35: 0 | E35: 0 | F35: 0 | G35: 0 | H35: 0 | I35: 0 | J35: 0 | K35: 0 | L35: 0
A36: Freistöße | B36: 0 | C36: 0 | D36: 0 | E36: 0 | F36: 0 | G36: 0 | H36: 0 | I36: 0 | J36: 0 | K36: 0 | L36: 0
A37: Paraden | B37: 1 | C37: 0 | D37: 0 | E37: 0 | F37: 0 | G37: 0 | H37: 0 | I37: 0 | J37: 0 | K37: 0 | L37: 0
A38: Reflexe | B38: 1 | C38: 0 | D38: 0 | E38: 0 | F38: 0 | G38: 0 | H38: 0 | I38: 0 | J38: 0 | K38: 0 | L38: 0
A39: Strafraumbeherrschung | B39: 1 | C39: 0 | D39: 0 | E39: 0 | F39: 0 | G39: 0 | H39: 0 | I39: 0 | J39: 0 | K39: 0 | L39: 0

Sheet Bilder
A1: 1
A2: 2
A3: 3
A4: 4
A5: 5
A6: 6
A7: 7
A8: 8
A9: 9
A10: 10
A11: 11
A12: 12
... A20: 20
