Workbook

Sheet Tabelle
A1: Rang | B1: Teamname | C1: Forumname | D1: Spiele | E1: S | F1: U | G1: N | H1: Pkt | I1: TDD | J1: TD | K1: GTD | L1: Alph | M1: DV | N1: Wert
A2: =RANK(N2,$N$2:$N$11) -> 1 | B2: BluMen-Group | C2: Sandmännchen | D2: =SUM(E2:G2) -> 6 | E2: =Spiele!I2+Spiele!I14+Spiele!I26+Spiele!I38+Spiele!I50+Spiele!I62+Spiele!I74+Spiele!I86+Spiele!I98+Spiele!I110+Spiele!I124 -> 6 | F2: =Spiele!J2+Spiele!J14+Spiele!J26+Spiele!J38+Spiele!J50+Spiele!J62+Spiele!J74+Spiele!J86+Spiele!J98+Spiele!J110+Spiele!J124 -> 0 | G2: =Spiele!K2+Spiele!K14+Spiele!K26+Spiele!K38+Spiele!K50+Spiele!K62+Spiele!K74+Spiele!K86+Spiele!K98+Spiele!K110+Spiele!K124 -> 0 | H2: =E2*3+F2 -> 18 | I2: =J2-K2 -> 13 | J2: =Spiele!L2+Spiele!L14+Spiele!L26+Spiele!L38+Spiele!L50+Spiele!L62+Spiele!L74+Spiele!L86+Spiele!L98+Spiele!L110+Spiele!L124 -> 18 | K2: =Spiele!M2+Spiele!M14+Spiele!M26+Spiele!M38+Spiele!M50+Spiele!M62+Spiele!M74+Spiele!M86+Spiele!M98+Spiele!M110+Spiele!M124 -> 5 | L2: 1 | M2: 0 | N2: =H2+I2*10^-3+M2*10^-6+J2*10^-9-L2*10^-12 -> 18.013
A3: =RANK(N3,$N$2:$N$11) -> 4 | B3: Borgia's Bullen | C3: Masurk | D3: =SUM(E3:G3) -> 7 | E3: =Spiele!I3+Spiele!I15+Spiele!I27+Spiele!I39+Spiele!I51+Spiele!I63+Spiele!I75+Spiele!I87+Spiele!I99+Spiele!I111+Spiele!I125 -> 3 | F3: =Spiele!J3+Spiele!J15+Spiele!J27+Spiele!J39+Spiele!J51+Spiele!J63+Spiele!J75+Spiele!J87+Spiele!J99+Spiele!J111+Spiele!J125 -> 1 | G3: =Spiele!K3+Spiele!K15+Spiele!K27+Spiele!K39+Spiele!K51+Spiele!K63+Spiele!K75+Spiele!K87+Spiele!K99+Spiele!K111+Spiele!K125 -> 3 | H3: =E3*3+F3 -> 10 | I3: =J3-K3 -> -1 | J3: =Spiele!L3+Spiele!L15+Spiele!L27+Spiele!L39+Spiele!L51+Spiele!L63+Spiele!L75+Spiele!L87+Spiele!L99+Spiele!L111+Spiele!L125 -> 8 | K3: =Spiele!M3+Spiele!M15+Spiele!M27+Spiele!M39+Spiele!M51+Spiele!M63+Spiele!M75+Spiele!M87+Spiele!M99+Spiele!M111+Spiele!M125 -> 9 | L3: 2 | M3: 0 | N3: =H3+I3*10^-3+M3*10^-6+J3*10^-9-L3*10^-12 -> 9.999
A4: =RANK(N4,$N$2:$N$11) -> 3 | B4: Famous Generals | C4: Adrian0815 | D4: =SUM(E4:G4) -> 6 | E4: =Spiele!I4+Spiele!I16+Spiele!I28+Spiele!I40+Spiele!I52+Spiele!I64+Spiele!I76+Spiele!I88+Spiele!I100+Spiele!I112+Spiele!I126 -> 3 | F4: =Spiele!J4+Spiele!J16+Spiele!J28+Spiele!J40+Spiele!J52+Spiele!J64+Spiele!J76+Spiele!J88+Spiele!J100+Spiele!J112+Spiele!J126 -> 1 | G4: =Spiele!K4+Spiele!K16+Spiele!K28+Spiele!K40+Spiele!K52+Spiele!K64+Spiele!K76+Spiele!K88+Spiele!K100+Spiele!K112+Spiele!K126 -> 2 | H4: =E4*3+F4 -> 10 | I4: =J4-K4 -> 0 | J4: =Spiele!L4+Spiele!L16+Spiele!L28+Spiele!L40+Spiele!L52+Spiele!L64+Spiele!L76+Spiele!L88+Spiele!L100+Spiele!L112+Spiele!L126 -> 6 | K4: =Spiele!M4+Spiele!M16+Spiele!M28+Spiele!M40+Spiele!M52+Spiele!M64+Spiele!M76+Spiele!M88+Spiele!M100+Spiele!M112+Spiele!M126 -> 6 | L4: 3 | M4: 0 | N4: =H4+I4*10^-3+M4*10^-6+J4*10^-9-L4*10^-12 -> 10
A5: =RANK(N5,$N$2:$N$11) -> 7 | B5: Golden Lizards Graz | C5: Murgor17 | D5: =SUM(E5:G5) -> 7 | E5: =Spiele!I5+Spiele!I17+Spiele!I29+Spiele!I41+Spiele!I53+Spiele!I65+Spiele!I77+Spiele!I89+Spiele!I101+Spiele!I113+Spiele!I127 -> 2 | F5: =Spiele!J5+Spiele!J17+Spiele!J29+Spiele!J41+Spiele!J53+Spiele!J65+Spiele!J77+Spiele!J89+Spiele!J101+Spiele!J113+Spiele!J127 -> 1 | G5: =Spiele!K5+Spiele!K17+Spiele!K29+Spiele!K41+Spiele!K53+Spiele!K65+Spiele!K77+Spiele!K89+Spiele!K101+Spiele!K113+Spiele!K127 -> 4 | H5: =E5*3+F5 -> 7 | I5: =J5-K5 -> -1 | J5: =Spiele!L5+Spiele!L17+Spiele!L29+Spiele!L41+Spiele!L53+Spiele!L65+Spiele!L77+Spiele!L89+Spiele!L101+Spiele!L113+Spiele!L127 -> 9 | K5: =Spiele!M5+Spiele!M17+Spiele!M29+Spiele!M41+Spiele!M53+Spiele!M65+Spiele!M77+Spiele!M89+Spiele!M101+Spiele!M113+Spiele!M127 -> 10 | L5: 4 | M5: 0 | N5: =H5+I5*10^-3+M5*10^-6+J5*10^-9-L5*10^-12 -> 6.999
A6: =RANK(N6,$N$2:$N$11) -> 5 | B6: Krebsgeschwader [BBL] | C6: Suaron | D6: =SUM(E6:G6) -> 7 | E6: =Spiele!I6+Spiele!I18+Spiele!I30+Spiele!I42+Spiele!I54+Spiele!I66+Spiele!I78+Spiele!I90+Spiele!I102+Spiele!I114+Spiele!I128 -> 3 | F6: =Spiele!J6+Spiele!J18+Spiele!J30+Spiele!J42+Spiele!J54+Spiele!J66+Spiele!J78+Spiele!J90+Spiele!J102+Spiele!J114+Spiele!J128 -> 0 | G6: =Spiele!K6+Spiele!K18+Spiele!K30+Spiele!K42+Spiele!K54+Spiele!K66+Spiele!K78+Spiele!K90+Spiele!K102+Spiele!K114+Spiele!K128 -> 4 | H6: =E6*3+F6 -> 9 | I6: =J6-K6 -> 0 | J6: =Spiele!L6+Spiele!L18+Spiele!L30+Spiele!L42+Spiele!L54+Spiele!L66+Spiele!L78+Spiele!L90+Spiele!L102+Spiele!L114+Spiele!L128 -> 9 | K6: =Spiele!M6+Spiele!M18+Spiele!M30+Spiele!M42+Spiele!M54+Spiele!M66+Spiele!M78+Spiele!M90+Spiele!M102+Spiele!M114+Spiele!M128 -> 9 | L6: 5 | M6: 0 | N6: =H6+I6*10^-3+M6*10^-6+J6*10^-9-L6*10^-12 -> 9
A7: =RANK(N7,$N$2:$N$11) -> 2 | B7: Lost&Damned Resurrection | C7: Wolf_Dislike | D7: =SUM(E7:G7) -> 7 | E7: =Spiele!I7+Spiele!I19+Spiele!I31+Spiele!I43+Spiele!I55+Spiele!I67+Spiele!I79+Spiele!I91+Spiele!I103+Spiele!I115+Spiele!I129 -> 5 | F7: =Spiele!J7+Spiele!J19+Spiele!J31+Spiele!J43+Spiele!J55+Spiele!J67+Spiele!J79+Spiele!J91+Spiele!J103+Spiele!J115+Spiele!J129 -> 2 | G7: =Spiele!K7+Spiele!K19+Spiele!K31+Spiele!K43+Spiele!K55+Spiele!K67+Spiele!K79+Spiele!K91+Spiele!K103+Spiele!K115+Spiele!K129 -> 0 | H7: =E7*3+F7 -> 17 | I7: =J7-K7 -> 6 | J7: =Spiele!L7+Spiele!L19+Spiele!L31+Spiele!L43+Spiele!L55+Spiele!L67+Spiele!L79+Spiele!L91+Spiele!L103+Spiele!L115+Spiele!L129 -> 11 | K7: =Spiele!M7+Spiele!M19+Spiele!M31+Spiele!M43+Spiele!M55+Spiele!M67+Spiele!M79+Spiele!M91+Spiele!M103+Spiele!M115+Spiele!M129 -> 5 | L7: 6 | M7: 0 | N7: =H7+I7*10^-3+M7*10^-6+J7*10^-9-L7*10^-12 -> 17.006
A8: =RANK(N8,$N$2:$N$11) -> 9 | B8: Malekith's Corsairs | C8: Stompot | D8: =SUM(E8:G8) -> 6 | E8: =Spiele!I8+Spiele!I20+Spiele!I32+Spiele!I44+Spiele!I56+Spiele!I68+Spiele!I80+Spiele!I92+Spiele!I104+Spiele!I116+Spiele!I130 -> 1 | F8: =Spiele!J8+Spiele!J20+Spiele!J32+Spiele!J44+Spiele!J56+Spiele!J68+Spiele!J80+Spiele!J92+Spiele!J104+Spiele!J116+Spiele!J130 -> 2 | G8: =Spiele!K8+Spiele!K20+Spiele!K32+Spiele!K44+Spiele!K56+Spiele!K68+Spiele!K80+Spiele!K92+Spiele!K104+Spiele!K116+Spiele!K130 -> 3 | H8: =E8*3+F8 -> 5 | I8: =J8-K8 -> -4 | J8: =Spiele!L8+Spiele!L20+Spiele!L32+Spiele!L44+Spiele!L56+Spiele!L68+Spiele!L80+Spiele!L92+Spiele!L104+Spiele!L116+Spiele!L130 -> 7 | K8: =Spiele!M8+Spiele!M20+Spiele!M32+Spiele!M44+Spiele!M56+Spiele!M68+Spiele!M80+Spiele!M92+Spiele!M104+Spiele!M116+Spiele!M130 -> 11 | L8: 7 | M8: 0 | N8: =H8+I8*10^-3+M8*10^-6+J8*10^-9-L8*10^-12 -> 4.996
A9: =RANK(N9,$N$2:$N$11) -> 6 | B9: Tawarwaith Lothlorien | C9: Leonydas | D9: =SUM(E9:G9) -> 6 | E9: =Spiele!I9+Spiele!I21+Spiele!I33+Spiele!I45+Spiele!I57+Spiele!I69+Spiele!I81+Spiele!I93+Spiele!I105+Spiele!I117+Spiele!I131 -> 2 | F9: =Spiele!J9+Spiele!J21+Spiele!J33+Spiele!J45+Spiele!J57+Spiele!J69+Spiele!J81+Spiele!J93+Spiele!J105+Spiele!J117+Spiele!J131 -> 2 | G9: =Spiele!K9+Spiele!K21+Spiele!K33+Spiele!K45+Spiele!K57+Spiele!K69+Spiele!K81+Spiele!K93+Spiele!K105+Spiele!K117+Spiele!K131 -> 2 | H9: =E9*3+F9 -> 8 | I9: =J9-K9 -> 0 | J9: =Spiele!L9+Spiele!L21+Spiele!L33+Spiele!L45+Spiele!L57+Spiele!L69+Spiele!L81+Spiele!L93+Spiele!L105+Spiele!L117+Spiele!L131 -> 10 | K9: =Spiele!M9+Spiele!M21+Spiele!M33+Spiele!M45+Spiele!M57+Spiele!M69+Spiele!M81+Spiele!M93+Spiele!M105+Spiele!M117+Spiele!M131 -> 10 | L9: 8 | M9: 0 | N9: =H9+I9*10^-3+M9*10^-6+J9*10^-9-L9*10^-12 -> 8
A10: =RANK(N10,$N$2:$N$11) -> 8 | B10: The Chaotic Hipstering | C10: FuuX | D10: =SUM(E10:G10) -> 6 | E10: =Spiele!I10+Spiele!I22+Spiele!I34+Spiele!I46+Spiele!I58+Spiele!I70+Spiele!I82+Spiele!I94+Spiele!I106+Spiele!I118+Spiele!I132 -> 2 | F10: =Spiele!J10+Spiele!J22+Spiele!J34+Spiele!J46+Spiele!J58+Spiele!J70+Spiele!J82+Spiele!J94+Spiele!J106+Spiele!J118+Spiele!J132 -> 0 | G10: =Spiele!K10+Spiele!K22+Spiele!K34+Spiele!K46+Spiele!K58+Spiele!K70+Spiele!K82+Spiele!K94+Spiele!K106+Spiele!K118+Spiele!K132 -> 4 | H10: =E10*3+F10 -> 6 | I10: =J10-K10 -> -4 | J10: =Spiele!L10+Spiele!L22+Spiele!L34+Spiele!L46+Spiele!L58+Spiele!L70+Spiele!L82+Spiele!L94+Spiele!L106+Spiele!L118+Spiele!L132 -> 8 | K10: =Spiele!M10+Spiele!M22+Spiele!M34+Spiele!M46+Spiele!M58+Spiele!M70+Spiele!M82+Spiele!M94+Spiele!M106+Spiele!M118+Spiele!M132 -> 12 | L10: 9 | M10: 0 | N10: =H10+I10*10^-3+M10*10^-6+J10*10^-9-L10*10^-12 -> 5.996
A11: =RANK(N11,$N$2:$N$11) -> 10 | B11: Was Lacostet die Welt III | C11: TiJaNe7 | D11: =SUM(E11:G11) -> 6 | E11: =Spiele!I11+Spiele!I23+Spiele!I35+Spiele!I47+Spiele!I59+Spiele!I71+Spiele!I83+Spiele!I95+Spiele!I107+Spiele!I119+Spiele!I133 -> 0 | F11: =Spiele!J11+Spiele!J23+Spiele!J35+Spiele!J47+Spiele!J59+Spiele!J71+Spiele!J83+Spiele!J95+Spiele!J107+Spiele!J119+Spiele!J133 -> 1 | G11: =Spiele!K11+Spiele!K23+Spiele!K35+Spiele!K47+Spiele!K59+Spiele!K71+Spiele!K83+Spiele!K95+Spiele!K107+Spiele!K119+Spiele!K133 -> 5 | H11: =E11*3+F11 -> 1 | I11: =J11-K11 -> -9 | J11: =Spiele!L11+Spiele!L23+Spiele!L35+Spiele!L47+Spiele!L59+Spiele!L71+Spiele!L83+Spiele!L95+Spiele!L107+Spiele!L119+Spiele!L133 -> 6 | K11: =Spiele!M11+Spiele!M23+Spiele!M35+Spiele!M47+Spiele!M59+Spiele!M71+Spiele!M83+Spiele!M95+Spiele!M107+Spiele!M119+Spiele!M133 -> 15 | L11: 10 | M11: 0 | N11: =H11+I11*10^-3+M11*10^-6+J11*10^-9-L11*10^-12 -> 0.99100001
F12: =IF(ISEVEN(SUM(F2:F11)),0,FALSE) -> 0 | G12: =IF(SUM(G2:G11)=SUM(E2:E11),0,Fehler) -> 0 | I12: =SUM(I2:I11) -> 0
A14: Rang | B14: Teamname | C14: Forumname | D14: Spiele | E14: S | F14: U | G14: N | H14: Pkt | I14: TDD | J14: TD
A15: 1 | B15: =VLOOKUP(Tabelle246[[#This Row],[Rang]],$A$2:$N$11,2,) -> BluMen-Group | C15: =VLOOKUP(Tabelle246[[#This Row],[Rang]],$A$2:$N$11,3,) -> Sandmännchen | D15: =VLOOKUP(Tabelle246[[#This Row],[Rang]],$A$2:$N$11,4,) -> 6 | E15: =VLOOKUP(Tabelle246[[#This Row],[Rang]],$A$2:$N$11,5,) -> 6 | F15: =VLOOKUP(Tabelle246[[#This Row],[Rang]],$A$2:$N$11,6,) -> 0 | G15: =VLOOKUP(Tabelle246[[#This Row],[Rang]],$A$2:$N$11,7,) -> 0 | H15: =VLOOKUP(Tabelle246[[#This Row],[Rang]],$A$2:$N$11,8,) -> 18 | I15: =VLOOKUP(Tabelle246[[#This Row],[Rang]],$A$2:$N$11,9,) -> 13 | J15: =VLOOKUP(Tabelle246[[#This Row],[Rang]],$A$2:$N$11,10,) -> 18
A16: 2 | B16: =VLOOKUP(Tabelle246[[#This Row],[Rang]],$A$2:$N$11,2,) -> Lost&Damned Resurrection | C16: =VLOOKUP(Tabelle246[[#This Row],[Rang]],$A$2:$N$11,3,) -> Wolf_Dislike | D16: =VLOOKUP(Tabelle246[[#This Row],[Rang]],$A$2:$N$11,4,) -> 7 | E16: =VLOOKUP(Tabelle246[[#This Row],[Rang]],$A$2:$N$11,5,) -> 5 | F16: =VLOOKUP(Tabelle246[[#This Row],[Rang]],$A$2:$N$11,6,) -> 2 | G16: =VLOOKUP(Tabelle246[[#This Row],[Rang]],$A$2:$N$11,7,) -> 0 | H16: =VLOOKUP(Tabelle246[[#This Row],[Rang]],$A$2:$N$11,8,) -> 17 | I16: =VLOOKUP(Tabelle246[[#This Row],[Rang]],$A$2:$N$11,9,) -> 6 | J16: =VLOOKUP(Tabelle246[[#This Row],[Rang]],$A$2:$N$11,10,) -> 11
A17: 3 | B17: =VLOOKUP(Tabelle246[[#This Row],[Rang]],$A$2:$N$11,2,) -> Famous Generals | C17: =VLOOKUP(Tabelle246[[#This Row],[Rang]],$A$2:$N$11,3,) -> Adrian0815 | D17: =VLOOKUP(Tabelle246[[#This Row],[Rang]],$A$2:$N$11,4,) -> 6 | E17: =VLOOKUP(Tabelle246[[#This Row],[Rang]],$A$2:$N$11,5,) -> 3 | F17: =VLOOKUP(Tabelle246[[#This Row],[Rang]],$A$2:$N$11,6,) -> 1 | G17: =VLOOKUP(Tabelle246[[#This Row],[Rang]],$A$2:$N$11,7,) -> 2 | H17: =VLOOKUP(Tabelle246[[#This Row],[Rang]],$A$2:$N$11,8,) -> 10 | I17: =VLOOKUP(Tabelle246[[#This Row],[Rang]],$A$2:$N$11,9,) -> 0 | J17: =VLOOKUP(Tabelle246[[#This Row],[Rang]],$A$2:$N$11,10,) -> 6
A18: 4 | B18: =VLOOKUP(Tabelle246[[#This Row],[Rang]],$A$2:$N$11,2,) -> Borgia's Bullen | C18: =VLOOKUP(Tabelle246[[#This Row],[Rang]],$A$2:$N$11,3,) -> Masurk | D18: =VLOOKUP(Tabelle246[[#This Row],[Rang]],$A$2:$N$11,4,) -> 7 | E18: =VLOOKUP(Tabelle246[[#This Row],[Rang]],$A$2:$N$11,5,) -> 3 | F18: =VLOOKUP(Tabelle246[[#This Row],[Rang]],$A$2:$N$11,6,) -> 1 | G18: =VLOOKUP(Tabelle246[[#This Row],[Rang]],$A$2:$N$11,7,) -> 3 | H18: =VLOOKUP(Tabelle246[[#This Row],[Rang]],$A$2:$N$11,8,) -> 10 | I18: =VLOOKUP(Tabelle246[[#This Row],[Rang]],$A$2:$N$11,9,) -> -1 | J18: =VLOOKUP(Tabelle246[[#This Row],[Rang]],$A$2:$N$11,10,) -> 8
A19: 5 | B19: =VLOOKUP(Tabelle246[[#This Row],[Rang]],$A$2:$N$11,2,) -> Krebsgeschwader [BBL] | C19: =VLOOKUP(Tabelle246[[#This Row],[Rang]],$A$2:$N$11,3,) -> Suaron | D19: =VLOOKUP(Tabelle246[[#This Row],[Rang]],$A$2:$N$11,4,) -> 7 | E19: =VLOOKUP(Tabelle246[[#This Row],[Rang]],$A$2:$N$11,5,) -> 3 | F19: =VLOOKUP(Tabelle246[[#This Row],[Rang]],$A$2:$N$11,6,) -> 0 | G19: =VLOOKUP(Tabelle246[[#This Row],[Rang]],$A$2:$N$11,7,) -> 4 | H19: =VLOOKUP(Tabelle246[[#This Row],[Rang]],$A$2:$N$11,8,) -> 9 | I19: =VLOOKUP(Tabelle246[[#This Row],[Rang]],$A$2:$N$11,9,) -> 0 | J19: =VLOOKUP(Tabelle246[[#This Row],[Rang]],$A$2:$N$11,10,) -> 9
A20: 6 | B20: =VLOOKUP(Tabelle246[[#This Row],[Rang]],$A$2:$N$11,2,) -> Tawarwaith Lothlorien | C20: =VLOOKUP(Tabelle246[[#This Row],[Rang]],$A$2:$N$11,3,) -> Leonydas | D20: =VLOOKUP(Tabelle246[[#This Row],[Rang]],$A$2:$N$11,4,) -> 6 | E20: =VLOOKUP(Tabelle246[[#This Row],[Rang]],$A$2:$N$11,5,) -> 2 | F20: =VLOOKUP(Tabelle246[[#This Row],[Rang]],$A$2:$N$11,6,) -> 2 | G20: =VLOOKUP(Tabelle246[[#This Row],[Rang]],$A$2:$N$11,7,) -> 2 | H20: =VLOOKUP(Tabelle246[[#This Row],[Rang]],$A$2:$N$11,8,) -> 8 | I20: =VLOOKUP(Tabelle246[[#This Row],[Rang]],$A$2:$N$11,9,) -> 0 | J20: =VLOOKUP(Tabelle246[[#This Row],[Rang]],$A$2:$N$11,10,) -> 10
A21: 7 | B21: =VLOOKUP(Tabelle246[[#This Row],[Rang]],$A$2:$N$11,2,) -> Golden Lizards Graz | C21: =VLOOKUP(Tabelle246[[#This Row],[Rang]],$A$2:$N$11,3,) -> Murgor17 | D21: =VLOOKUP(Tabelle246[[#This Row],[Rang]],$A$2:$N$11,4,) -> 7 | E21: =VLOOKUP(Tabelle246[[#This Row],[Rang]],$A$2:$N$11,5,) -> 2 | F21: =VLOOKUP(Tabelle246[[#This Row],[Rang]],$A$2:$N$11,6,) -> 1 | G21: =VLOOKUP(Tabelle246[[#This Row],[Rang]],$A$2:$N$11,7,) -> 4 | H21: =VLOOKUP(Tabelle246[[#This Row],[Rang]],$A$2:$N$11,8,) -> 7 | I21: =VLOOKUP(Tabelle246[[#This Row],[Rang]],$A$2:$N$11,9,) -> -1 | J21: =VLOOKUP(Tabelle246[[#This Row],[Rang]],$A$2:$N$11,10,) -> 9
A22: 8 | B22: =VLOOKUP(Tabelle246[[#This Row],[Rang]],$A$2:$N$11,2,) -> The Chaotic Hipstering | C22: =VLOOKUP(Tabelle246[[#This Row],[Rang]],$A$2:$N$11,3,) -> FuuX | D22: =VLOOKUP(Tabelle246[[#This Row],[Rang]],$A$2:$N$11,4,) -> 6 | E22: =VLOOKUP(Tabelle246[[#This Row],[Rang]],$A$2:$N$11,5,) -> 2 | F22: =VLOOKUP(Tabelle246[[#This Row],[Rang]],$A$2:$N$11,6,) -> 0 | G22: =VLOOKUP(Tabelle246[[#This Row],[Rang]],$A$2:$N$11,7,) -> 4 | H22: =VLOOKUP(Tabelle246[[#This Row],[Rang]],$A$2:$N$11,8,) -> 6 | I22: =VLOOKUP(Tabelle246[[#This Row],[Rang]],$A$2:$N$11,9,) -> -4 | J22: =VLOOKUP(Tabelle246[[#This Row],[Rang]],$A$2:$N$11,10,) -> 8
A23: 9 | B23: =VLOOKUP(Tabelle246[[#This Row],[Rang]],$A$2:$N$11,2,) -> Malekith's Corsairs | C23: =VLOOKUP(Tabelle246[[#This Row],[Rang]],$A$2:$N$11,3,) -> Stompot | D23: =VLOOKUP(Tabelle246[[#This Row],[Rang]],$A$2:$N$11,4,) -> 6 | E23: =VLOOKUP(Tabelle246[[#This Row],[Rang]],$A$2:$N$11,5,) -> 1 | F23: =VLOOKUP(Tabelle246[[#This Row],[Rang]],$A$2:$N$11,6,) -> 2 | G23: =VLOOKUP(Tabelle246[[#This Row],[Rang]],$A$2:$N$11,7,) -> 3 | H23: =VLOOKUP(Tabelle246[[#This Row],[Rang]],$A$2:$N$11,8,) -> 5 | I23: =VLOOKUP(Tabelle246[[#This Row],[Rang]],$A$2:$N$11,9,) -> -4 | J23: =VLOOKUP(Tabelle246[[#This Row],[Rang]],$A$2:$N$11,10,) -> 7
A24: 10 | B24: =VLOOKUP(Tabelle246[[#This Row],[Rang]],$A$2:$N$11,2,) -> Was Lacostet die Welt III | C24: =VLOOKUP(Tabelle246[[#This Row],[Rang]],$A$2:$N$11,3,) -> TiJaNe7 | D24: =VLOOKUP(Tabelle246[[#This Row],[Rang]],$A$2:$N$11,4,) -> 6 | E24: =VLOOKUP(Tabelle246[[#This Row],[Rang]],$A$2:$N$11,5,) -> 0 | F24: =VLOOKUP(Tabelle246[[#This Row],[Rang]],$A$2:$N$11,6,) -> 1 | G24: =VLOOKUP(Tabelle246[[#This Row],[Rang]],$A$2:$N$11,7,) -> 5 | H24: =VLOOKUP(Tabelle246[[#This Row],[Rang]],$A$2:$N$11,8,) -> 1 | I24: =VLOOKUP(Tabelle246[[#This Row],[Rang]],$A$2:$N$11,9,) -> -9 | J24: =VLOOKUP(Tabelle246[[#This Row],[Rang]],$A$2:$N$11,10,) -> 6

Sheet Spiele
A1: Spieltag1 | B1: Mannschaft1 | C1: Touchdowns1 | D1: Touchdowns2 | E1: Mannschaft2 | G1: Tabelle1 | I1: S | J1: U | K1: N | L1: TD | M1: GTD
A2: 1 | B2: Lost&Damned Resurrection | C2: 2 | D2: 1 | E2: Tawarwaith Lothlorien | G2: BluMen-Group | H2: =IF(ISNA(VLOOKUP($G2,B2:E11,2,0)),0,1) -> 1 | I2: =IF($H2=0,0,IF(VLOOKUP($G2,B2:E11,2,0)>VLOOKUP($G2,B2:E11,3,0),1,0)) -> 1 | J2: =IF($H2=0,0,IF(VLOOKUP($G2,B2:E11,2,0)=VLOOKUP($G2,B2:E11,3,0),1,0)) -> 0 | K2: =IF($H2=0,0,IF(VLOOKUP($G2,B2:E11,2,0)<VLOOKUP($G2,B2:E11,3,0),1,0)) -> 0 | L2: =IF($H2=0,0,VLOOKUP($G2,B2:E11,2,0)) -> 4 | M2: =IF($H2=0,0,VLOOKUP($G2,B2:E11,3,0)) -> 2 | O2: ="[b]"&B2&"[/b]"&" ("&VLOOKUP(B2,Tabelle!$B$2:$C$11,2,FALSE)&") - [b]"&E2&"[/b]"&" ("&VLOOKUP(E2,Tabelle!$B$2:$C$11,2,FALSE)&")" -> [b]Lost&Damned Resurrection[/b] (Wolf_Dislike) - [b]Tawarwaith Lothlorien[/b] (Leonydas)
B3: =E2 -> Tawarwaith Lothlorien | C3: =D2 -> 1 | D3: =C2 -> 2 | E3: =B2 -> Lost&Damned Resurrection | G3: Borgia's Bullen | H3: =IF(ISNA(VLOOKUP($G3,$B2:E11,2,0)),0,1) -> 1 | I3: =IF($H3=0,0,IF(VLOOKUP($G3,B2:E11,2,0)>VLOOKUP($G3,B2:E11,3,0),1,0)) -> 1 | J3: =IF($H3=0,0,IF(VLOOKUP($G3,B2:E11,2,0)=VLOOKUP($G3,B2:E11,3,0),1,0)) -> 0 | K3: =IF($H3=0,0,IF(VLOOKUP($G3,B2:E11,2,0)<VLOOKUP($G3,B2:E11,3,0),1,0)) -> 0 | L3: =IF($H3=0,0,VLOOKUP($G3,B2:E11,2,0)) -> 2 | M3: =IF($H3=0,0,VLOOKUP($G3,B2:E11,3,0)) -> 1
A4: 2 | B4: Krebsgeschwader [BBL] | C4: 3 | D4: 1 | E4: Was Lacostet die Welt III | G4: Famous Generals | H4: =IF(ISNA(VLOOKUP($G4,B2:E11,2,0)),0,1) -> 1 | I4: =IF($H4=0,0,IF(VLOOKUP($G4,B2:E11,2,0)>VLOOKUP($G4,B2:E11,3,0),1,0)) -> 1 | J4: =IF($H4=0,0,IF(VLOOKUP($G4,B2:E11,2,0)=VLOOKUP($G4,B2:E11,3,0),1,0)) -> 0 | K4: =IF($H4=0,0,IF(VLOOKUP($G4,B2:E11,2,0)<VLOOKUP($G4,B2:E11,3,0),1,0)) -> 0 | L4: =IF($H4=0,0,VLOOKUP($G4,B2:E11,2,0)) -> 1 | M4: =IF($H4=0,0,VLOOKUP($G4,B2:E11,3,0)) -> 0 | O4: ="[b]"&B4&"[/b]"&" ("&VLOOKUP(B4,Tabelle!$B$2:$C$11,2,FALSE)&") - [b]"&E4&"[/b]"&" ("&VLOOKUP(E4,Tabelle!$B$2:$C$11,2,FALSE)&")" -> [b]Krebsgeschwader [BBL][/b] (Suaron) - [b]Was Lacostet die Welt III[/b] (TiJaNe7)
B5: =E4 -> Was Lacostet die Welt III | C5: =D4 -> 1 | D5: =C4 -> 3 | E5: =B4 -> Krebsgeschwader [BBL] | G5: Golden Lizards Graz | H5: =IF(ISNA(VLOOKUP($G5,B2:E11,2,0)),0,1) -> 1 | I5: =IF($H5=0,0,IF(VLOOKUP($G5,B2:E11,2,0)>VLOOKUP($G5,B2:E11,3,0),1,0)) -> 0 | J5: =IF($H5=0,0,IF(VLOOKUP($G5,B2:E11,2,0)=VLOOKUP($G5,B2:E11,3,0),1,0)) -> 0 | K5: =IF($H5=0,0,IF(VLOOKUP($G5,B2:E11,2,0)<VLOOKUP($G5,B2:E11,3,0),1,0)) -> 1 | L5: =IF($H5=0,0,VLOOKUP($G5,B2:E11,2,0)) -> 0 | M5: =IF($H5=0,0,VLOOKUP($G5,B2:E11,3,0)) -> 1
A6: 3 | B6: BluMen-Group | C6: 4 | D6: 2 | E6: The Chaotic Hipstering | G6: Krebsgeschwader [BBL] | H6: =IF(ISNA(VLOOKUP($G6,B2:E11,2,0)),0,1) -> 1 | I6: =IF($H6=0,0,IF(VLOOKUP($G6,B2:E11,2,0)>VLOOKUP($G6,B2:E11,3,0),1,0)) -> 1 | J6: =IF($H6=0,0,IF(VLOOKUP($G6,B2:E11,2,0)=VLOOKUP($G6,B2:E11,3,0),1,0)) -> 0 | K6: =IF($H6=0,0,IF(VLOOKUP($G6,B2:E11,2,0)<VLOOKUP($G6,B2:E11,3,0),1,0)) -> 0 | L6: =IF($H6=0,0,VLOOKUP($G6,B2:E11,2,0)) -> 3 | M6: =IF($H6=0,0,VLOOKUP($G6,B2:E11,3,0)) -> 1 | O6: ="[b]"&B6&"[/b]"&" ("&VLOOKUP(B6,Tabelle!$B$2:$C$11,2,FALSE)&") - [b]"&E6&"[/b]"&" ("&VLOOKUP(E6,Tabelle!$B$2:$C$11,2,FALSE)&")" -> [b]BluMen-Group[/b] (Sandmännchen) - [b]The Chaotic Hipstering[/b] (FuuX)
B7: =E6 -> The Chaotic Hipstering | C7: =D6 -> 2 | D7: =C6 -> 4 | E7: =B6 -> BluMen-Group | G7: Lost&Damned Resurrection | H7: =IF(ISNA(VLOOKUP($G7,B2:E11,2,0)),0,1) -> 1 | I7: =IF($H7=0,0,IF(VLOOKUP($G7,B2:E11,2,0)>VLOOKUP($G7,B2:E11,3,0),1,0)) -> 1 | J7: =IF($H7=0,0,IF(VLOOKUP($G7,B2:E11,2,0)=VLOOKUP($G7,B2:E11,3,0),1,0)) -> 0 | K7: =IF($H7=0,0,IF(VLOOKUP($G7,B2:E11,2,0)<VLOOKUP($G7,B2:E11,3,0),1,0)) -> 0 | L7: =IF($H7=0,0,VLOOKUP($G7,B2:E11,2,0)) -> 2 | M7: =IF($H7=0,0,VLOOKUP($G7,B2:E11,3,0)) -> 1
A8: 4 | B8: Golden Lizards Graz | C8: 0 | D8: 1 | E8: Famous Generals | G8: Malekith's Corsairs | H8: =IF(ISNA(VLOOKUP($G8,B2:E11,2,0)),0,1) -> 1 | I8: =IF($H8=0,0,IF(VLOOKUP($G8,B2:E11,2,0)>VLOOKUP($G8,B2:E11,3,0),1,0)) -> 0 | J8: =IF($H8=0,0,IF(VLOOKUP($G8,B2:E11,2,0)=VLOOKUP($G8,B2:E11,3,0),1,0)) -> 0 | K8: =IF($H8=0,0,IF(VLOOKUP($G8,B2:E11,2,0)<VLOOKUP($G8,B2:E11,3,0),1,0)) -> 1 | L8: =IF($H8=0,0,VLOOKUP($G8,B2:E11,2,0)) -> 1 | M8: =IF($H8=0,0,VLOOKUP($G8,B2:E11,3,0)) -> 2 | O8: ="[b]"&B8&"[/b]"&" ("&VLOOKUP(B8,Tabelle!$B$2:$C$11,2,FALSE)&") - [b]"&E8&"[/b]"&" ("&VLOOKUP(E8,Tabelle!$B$2:$C$11,2,FALSE)&")" -> [b]Golden Lizards Graz[/b] (Murgor17) - [b]Famous Generals[/b] (Adrian0815)
B9: =E8 -> Famous Generals | C9: =D8 -> 1 | D9: =C8 -> 0 | E9: =B8 -> Golden Lizards Graz | G9: Tawarwaith Lothlorien | H9: =IF(ISNA(VLOOKUP($G9,B2:E11,2,0)),0,1) -> 1 | I9: =IF($H9=0,0,IF(VLOOKUP($G9,B2:E11,2,0)>VLOOKUP($G9,B2:E11,3,0),1,0)) -> 0 | J9: =IF($H9=0,0,IF(VLOOKUP($G9,B2:E11,2,0)=VLOOKUP($G9,B2:E11,3,0),1,0)) -> 0 | K9: =IF($H9=0,0,IF(VLOOKUP($G9,B2:E11,2,0)<VLOOKUP($G9,B2:E11,3,0),1,0)) -> 1 | L9: =IF($H9=0,0,VLOOKUP($G9,B2:E11,2,0)) -> 1 | M9: =IF($H9=0,0,VLOOKUP($G9,B2:E11,3,0)) -> 2
A10: 5 | B10: Borgia's Bullen | C10: 2 | D10: 1 | E10: Malekith's Corsairs | G10: The Chaotic Hipstering | H10: =IF(ISNA(VLOOKUP($G10,B2:E11,2,0)),0,1) -> 1 | I10: =IF($H10=0,0,IF(VLOOKUP($G10,B2:E11,2,0)>VLOOKUP($G10,B2:E11,3,0),1,0)) -> 0 | J10: =IF($H10=0,0,IF(VLOOKUP($G10,B2:E11,2,0)=VLOOKUP($G10,B2:E11,3,0),1,0)) -> 0 | K10: =IF($H10=0,0,IF(VLOOKUP($G10,B2:E11,2,0)<VLOOKUP($G10,B2:E11,3,0),1,0)) -> 1 | L10: =IF($H10=0,0,VLOOKUP($G10,B2:E11,2,0)) -> 2 | M10: =IF($H10=0,0,VLOOKUP($G10,B2:E11,3,0)) -> 4 | O10: ="[b]"&B10&"[/b]"&" ("&VLOOKUP(B10,Tabelle!$B$2:$C$11,2,FALSE)&") - [b]"&E10&"[/b]"&" ("&VLOOKUP(E10,Tabelle!$B$2:$C$11,2,FALSE)&")" -> [b]Borgia's Bullen[/b] (Masurk) - [b]Malekith's Corsairs[/b] (Stompot)
B11: =E10 -> Malekith's Corsairs | C11: =D10 -> 1 | D11: =C10 -> 2 | E11: =B10 -> Borgia's Bullen | G11: Was Lacostet die Welt III | H11: =IF(ISNA(VLOOKUP($G11,B2:E11,2,0)),0,1) -> 1 | I11: =IF($H11=0,0,IF(VLOOKUP($G11,B2:E11,2,0)>VLOOKUP($G11,B2:E11,3,0),1,0)) -> 0 | J11: =IF($H11=0,0,IF(VLOOKUP($G11,B2:E11,2,0)=VLOOKUP($G11,B2:E11,3,0),1,0)) -> 0 | K11: =IF($H11=0,0,IF(VLOOKUP($G11,B2:E11,2,0)<VLOOKUP($G11,B2:E11,3,0),1,0)) -> 1 | L11: =IF($H11=0,0,VLOOKUP($G11,B2:E11,2,0)) -> 1 | M11: =IF($H11=0,0,VLOOKUP($G11,B2:E11,3,0)) -> 3
A13: Spieltag2 | B13: Mannschaft1 | C13: Touchdowns1 | D13: Touchdowns2 | E13: Mannschaft2 | G13: Tabelle2 | I13: S | J13: U | K13: N | L13: TD | M13: GTD
A14: 1 | B14: Tawarwaith Lothlorien | C14: 3 | D14: 1 | E14: Golden Lizards Graz | G14: BluMen-Group | H14: =IF(ISNA(VLOOKUP($G14,B14:E23,2,0)),0,1) -> 1 | I14: =IF($H14=0,0,IF(VLOOKUP($G14,B14:E23,2,0)>VLOOKUP($G14,B14:E23,3,0),1,0)) -> 1 | J14: =IF($H14=0,0,IF(VLOOKUP($G14,B14:E23,2,0)=VLOOKUP($G14,B14:E23,3,0),1,0)) -> 0 | K14: =IF($H14=0,0,IF(VLOOKUP($G14,B14:E23,2,0)<VLOOKUP($G14,B14:E23,3,0),1,0)) -> 0 | L14: =IF($H14=0,0,VLOOKUP($G14,B14:E23,2,0)) -> 3 | M14: =IF($H14=0,0,VLOOKUP($G14,B14:E23,3,0)) -> 0 | O14: ="[b]"&B14&"[/b]"&" ("&VLOOKUP(B14,Tabelle!$B$2:$C$11,2,FALSE)&") - [b]"&E14&"[/b]"&" ("&VLOOKUP(E14,Tabelle!$B$2:$C$11,2,FALSE)&")" -> [b]Tawarwaith Lothlorien[/b] (Leonydas) - [b]Golden Lizards Graz[/b] (Murgor17)
B15: =E14 -> Golden Lizards Graz | C15: =D14 -> 1 | D15: =C14 -> 3 | E15: =B14 -> Tawarwaith Lothlorien | G15: Borgia's Bullen | H15: =IF(ISNA(VLOOKUP($G15,$B14:E23,2,0)),0,1) -> 1 | I15: =IF($H15=0,0,IF(VLOOKUP($G15,B14:E23,2,0)>VLOOKUP($G15,B14:E23,3,0),1,0)) -> 0 | J15: =IF($H15=0,0,IF(VLOOKUP($G15,B14:E23,2,0)=VLOOKUP($G15,B14:E23,3,0),1,0)) -> 0 | K15: =IF($H15=0,0,IF(VLOOKUP($G15,B14:E23,2,0)<VLOOKUP($G15,B14:E23,3,0),1,0)) -> 1 | L15: =IF($H15=0,0,VLOOKUP($G15,B14:E23,2,0)) -> 0 | M15: =IF($H15=0,0,VLOOKUP($G15,B14:E23,3,0)) -> 3
A16: 2 | B16: BluMen-Group | C16: 3 | D16: 0 | E16: Borgia's Bullen | G16: Famous Generals | H16: =IF(ISNA(VLOOKUP($G16,B14:E23,2,0)),0,1) -> 1 | I16: =IF($H16=0,0,IF(VLOOKUP($G16,B14:E23,2,0)>VLOOKUP($G16,B14:E23,3,0),1,0)) -> 0 | J16: =IF($H16=0,0,IF(VLOOKUP($G16,B14:E23,2,0)=VLOOKUP($G16,B14:E23,3,0),1,0)) -> 1 | K16: =IF($H16=0,0,IF(VLOOKUP($G16,B14:E23,2,0)<VLOOKUP($G16,B14:E23,3,0),1,0)) -> 0 | L16: =IF($H16=0,0,VLOOKUP($G16,B14:E23,2,0)) -> 1 | M16: =IF($H16=0,0,VLOOKUP($G16,B14:E23,3,0)) -> 1 | O16: ="[b]"&B16&"[/b]"&" ("&VLOOKUP(B16,Tabelle!$B$2:$C$11,2,FALSE)&") - [b]"&E16&"[/b]"&" ("&VLOOKUP(E16,Tabelle!$B$2:$C$11,2,FALSE)&")" -> [b]BluMen-Group[/b] (Sandmännchen) - [b]Borgia's Bullen[/b] (Masurk)
B17: =E16 -> Borgia's Bullen | C17: =D16 -> 0 | D17: =C16 -> 3 | E17: =B16 -> BluMen-Group | G17: Golden Lizards Graz | H17: =IF(ISNA(VLOOKUP($G17,B14:E23,2,0)),0,1) -> 1 | I17: =IF($H17=0,0,IF(VLOOKUP($G17,B14:E23,2,0)>VLOOKUP($G17,B14:E23,3,0),1,0)) -> 0 | J17: =IF($H17=0,0,IF(VLOOKUP($G17,B14:E23,2,0)=VLOOKUP($G17,B14:E23,3,0),1,0)) -> 0 | K17: =IF($H17=0,0,IF(VLOOKUP($G17,B14:E23,2,0)<VLOOKUP($G17,B14:E23,3,0),1,0)) -> 1 | L17: =IF($H17=0,0,VLOOKUP($G17,B14:E23,2,0)) -> 1 | M17: =IF($H17=0,0,VLOOKUP($G17,B14:E23,3,0)) -> 3
A18: 3 | B18: Krebsgeschwader [BBL] | C18: 1 | D18: 2 | E18: Malekith's Corsairs | G18: Krebsgeschwader [BBL] | H18: =IF(ISNA(VLOOKUP($G18,B14:E23,2,0)),0,1) -> 1 | I18: =IF($H18=0,0,IF(VLOOKUP($G18,B14:E23,2,0)>VLOOKUP($G18,B14:E23,3,0),1,0)) -> 0 | J18: =IF($H18=0,0,IF(VLOOKUP($G18,B14:E23,2,0)=VLOOKUP($G18,B14:E23,3,0),1,0)) -> 0 | K18: =IF($H18=0,0,IF(VLOOKUP($G18,B14:E23,2,0)<VLOOKUP($G18,B14:E23,3,0),1,0)) -> 1 | L18: =IF($H18=0,0,VLOOKUP($G18,B14:E23,2,0)) -> 1 | M18: =IF($H18=0,0,VLOOKUP($G18,B14:E23,3,0)) -> 2 | O18: ="[b]"&B18&"[/b]"&" ("&VLOOKUP(B18,Tabelle!$B$2:$C$11,2,FALSE)&") - [b]"&E18&"[/b]"&" ("&VLOOKUP(E18,Tabelle!$B$2:$C$11,2,FALSE)&")" -> [b]Krebsgeschwader [BBL][/b] (Suaron) - [b]Malekith's Corsairs[/b] (Stompot)
B19: =E18 -> Malekith's Corsairs | C19: =D18 -> 2 | D19: =C18 -> 1 | E19: =B18 -> Krebsgeschwader [BBL] | G19: Lost&Damned Resurrection | H19: =IF(ISNA(VLOOKUP($G19,B14:E23,2,0)),0,1) -> 1 | I19: =IF($H19=0,0,IF(VLOOKUP($G19,B14:E23,2,0)>VLOOKUP($G19,B14:E23,3,0),1,0)) -> 0 | J19: =IF($H19=0,0,IF(VLOOKUP($G19,B14:E23,2,0)=VLOOKUP($G19,B14:E23,3,0),1,0)) -> 1 | K19: =IF($H19=0,0,IF(VLOOKUP($G19,B14:E23,2,0)<VLOOKUP($G19,B14:E23,3,0),1,0)) -> 0 | L19: =IF($H19=0,0,VLOOKUP($G19,B14:E23,2,0)) -> 1 | M19: =IF($H19=0,0,VLOOKUP($G19,B14:E23,3,0)) -> 1
A20: 4 | B20: Lost&Damned Resurrection | C20: 1 | D20: 1 | E20: Famous Generals | G20: Malekith's Corsairs | H20: =IF(ISNA(VLOOKUP($G20,B14:E23,2,0)),0,1) -> 1 | I20: =IF($H20=0,0,IF(VLOOKUP($G20,B14:E23,2,0)>VLOOKUP($G20,B14:E23,3,0),1,0)) -> 1 | J20: =IF($H20=0,0,IF(VLOOKUP($G20,B14:E23,2,0)=VLOOKUP($G20,B14:E23,3,0),1,0)) -> 0 | K20: =IF($H20=0,0,IF(VLOOKUP($G20,B14:E23,2,0)<VLOOKUP($G20,B14:E23,3,0),1,0)) -> 0 | L20: =IF($H20=0,0,VLOOKUP($G20,B14:E23,2,0)) -> 2 | M20: =IF($H20=0,0,VLOOKUP($G20,B14:E23,3,0)) -> 1 | O20: ="[b]"&B20&"[/b]"&" ("&VLOOKUP(B20,Tabelle!$B$2:$C$11,2,FALSE)&") - [b]"&E20&"[/b]"&" ("&VLOOKUP(E20,Tabelle!$B$2:$C$11,2,FALSE)&")" -> [b]Lost&Damned Resurrection[/b] (Wolf_Dislike) - [b]Famous Generals[/b] (Adrian0815)
B21: =E20 -> Famous Generals | C21: =D20 -> 1 | D21: =C20 -> 1 | E21: =B20 -> Lost&Damned Resurrection | G21: Tawarwaith Lothlorien | H21: =IF(ISNA(VLOOKUP($G21,B14:E23,2,0)),0,1) -> 1 | I21: =IF($H21=0,0,IF(VLOOKUP($G21,B14:E23,2,0)>VLOOKUP($G21,B14:E23,3,0),1,0)) -> 1 | J21: =IF($H21=0,0,IF(VLOOKUP($G21,B14:E23,2,0)=VLOOKUP($G21,B14:E23,3,0),1,0)) -> 0 | K21: =IF($H21=0,0,IF(VLOOKUP($G21,B14:E23,2,0)<VLOOKUP($G21,B14:E23,3,0),1,0)) -> 0 | L21: =IF($H21=0,0,VLOOKUP($G21,B14:E23,2,0)) -> 3 | M21: =IF($H21=0,0,VLOOKUP($G21,B14:E23,3,0)) -> 1
A22: 5 | B22: Was Lacostet die Welt III | C22: 1 | D22: 2 | E22: The Chaotic Hipstering | G22: The Chaotic Hipstering | H22: =IF(ISNA(VLOOKUP($G22,B14:E23,2,0)),0,1) -> 1 | I22: =IF($H22=0,0,IF(VLOOKUP($G22,B14:E23,2,0)>VLOOKUP($G22,B14:E23,3,0),1,0)) -> 1 | J22: =IF($H22=0,0,IF(VLOOKUP($G22,B14:E23,2,0)=VLOOKUP($G22,B14:E23,3,0),1,0)) -> 0 | K22: =IF($H22=0,0,IF(VLOOKUP($G22,B14:E23,2,0)<VLOOKUP($G22,B14:E23,3,0),1,0)) -> 0 | L22: =IF($H22=0,0,VLOOKUP($G22,B14:E23,2,0)) -> 2 | M22: =IF($H22=0,0,VLOOKUP($G22,B14:E23,3,0)) -> 1 | O22: ="[b]"&B22&"[/b]"&" ("&VLOOKUP(B22,Tabelle!$B$2:$C$11,2,FALSE)&") - [b]"&E22&"[/b]"&" ("&VLOOKUP(E22,Tabelle!$B$2:$C$11,2,FALSE)&")" -> [b]Was Lacostet die Welt III[/b] (TiJaNe7) - [b]The Chaotic Hipstering[/b] (FuuX)
B23: =E22 -> The Chaotic Hipstering | C23: =D22 -> 2 | D23: =C22 -> 1 | E23: =B22 -> Was Lacostet die Welt III | G23: Was Lacostet die Welt III | H23: =IF(ISNA(VLOOKUP($G23,B14:E23,2,0)),0,1) -> 1 | I23: =IF($H23=0,0,IF(VLOOKUP($G23,B14:E23,2,0)>VLOOKUP($G23,B14:E23,3,0),1,0)) -> 0 | J23: =IF($H23=0,0,IF(VLOOKUP($G23,B14:E23,2,0)=VLOOKUP($G23,B14:E23,3,0),1,0)) -> 0 | K23: =IF($H23=0,0,IF(VLOOKUP($G23,B14:E23,2,0)<VLOOKUP($G23,B14:E23,3,0),1,0)) -> 1 | L23: =IF($H23=0,0,VLOOKUP($G23,B14:E23,2,0)) -> 1 | M23: =IF($H23=0,0,VLOOKUP($G23,B14:E23,3,0)) -> 2
A25: Spieltag3 | B25: Mannschaft1 | C25: Touchdowns1 | D25: Touchdowns2 | E25: Mannschaft2 | G25: Tabelle3 | H25: ? | I25: S | J25: U | K25: N | L25: TD | M25: GTD
A26: 1 | B26: The Chaotic Hipstering | C26: 1 | D26: 2 | E26: Tawarwaith Lothlorien | G26: BluMen-Group | H26: =IF(ISNA(VLOOKUP($G26,B26:E35,2,0)),0,1) -> 1 | I26: =IF($H26=0,0,IF(VLOOKUP($G26,B26:E35,2,0)>VLOOKUP($G26,B26:E35,3,0),1,0)) -> 1 | J26: =IF($H26=0,0,IF(VLOOKUP($G26,B26:E35,2,0)=VLOOKUP($G26,B26:E35,3,0),1,0)) -> 0 | K26: =IF($H26=0,0,IF(VLOOKUP($G26,B26:E35,2,0)<VLOOKUP($G26,B26:E35,3,0),1,0)) -> 0 | L26: =IF($H26=0,0,VLOOKUP($G26,B26:E35,2,0)) -> 3 | M26: =IF($H26=0,0,VLOOKUP($G26,B26:E35,3,0)) -> 2 | O26: ="[b]"&B26&"[/b]"&" ("&VLOOKUP(B26,Tabelle!$B$2:$C$11,2,FALSE)&") - [b]"&E26&"[/b]"&" ("&VLOOKUP(E26,Tabelle!$B$2:$C$11,2,FALSE)&")" -> [b]The Chaotic Hipstering[/b] (FuuX) - [b]Tawarwaith Lothlorien[/b] (Leonydas)
B27: =E26 -> Tawarwaith Lothlorien | C27: =D26 -> 2 | D27: =C26 -> 1 | E27: =B26 -> The Chaotic Hipstering | G27: Borgia's Bullen | H27: =IF(ISNA(VLOOKUP($G27,$B26:E35,2,0)),0,1) -> 1 | I27: =IF($H27=0,0,IF(VLOOKUP($G27,B26:E35,2,0)>VLOOKUP($G27,B26:E35,3,0),1,0)) -> 1 | J27: =IF($H27=0,0,IF(VLOOKUP($G27,B26:E35,2,0)=VLOOKUP($G27,B26:E35,3,0),1,0)) -> 0 | K27: =IF($H27=0,0,IF(VLOOKUP($G27,B26:E35,2,0)<VLOOKUP($G27,B26:E35,3,0),1,0)) -> 0 | L27: =IF($H27=0,0,VLOOKUP($G27,B26:E35,2,0)) -> 2 | M27: =IF($H27=0,0,VLOOKUP($G27,B26:E35,3,0)) -> 1
A28: 2 | B28: Was Lacostet die Welt III | C28: 1 | D28: 2 | E28: Famous Generals | G28: Famous Generals | H28: =IF(ISNA(VLOOKUP($G28,B26:E35,2,0)),0,1) -> 1 | I28: =IF($H28=0,0,IF(VLOOKUP($G28,B26:E35,2,0)>VLOOKUP($G28,B26:E35,3,0),1,0)) -> 1 | J28: =IF($H28=0,0,IF(VLOOKUP($G28,B26:E35,2,0)=VLOOKUP($G28,B26:E35,3,0),1,0)) -> 0 | K28: =IF($H28=0,0,IF(VLOOKUP($G28,B26:E35,2,0)<VLOOKUP($G28,B26:E35,3,0),1,0)) -> 0 | L28: =IF($H28=0,0,VLOOKUP($G28,B26:E35,2,0)) -> 2 | M28: =IF($H28=0,0,VLOOKUP($G28,B26:E35,3,0)) -> 1 | O28: ="[b]"&B28&"[/b]"&" ("&VLOOKUP(B28,Tabelle!$B$2:$C$11,2,FALSE)&") - [b]"&E28&"[/b]"&" ("&VLOOKUP(E28,Tabelle!$B$2:$C$11,2,FALSE)&")" -> [b]Was Lacostet die Welt III[/b] (TiJaNe7) - [b]Famous Generals[/b] (Adrian0815)
B29: =E28 -> Famous Generals | C29: =D28 -> 2 | D29: =C28 -> 1 | E29: =B28 -> Was Lacostet die Welt III | G29: Golden Lizards Graz | H29: =IF(ISNA(VLOOKUP($G29,B26:E35,2,0)),0,1) -> 1 | I29: =IF($H29=0,0,IF(VLOOKUP($G29,B26:E35,2,0)>VLOOKUP($G29,B26:E35,3,0),1,0)) -> 0 | J29: =IF($H29=0,0,IF(VLOOKUP($G29,B26:E35,2,0)=VLOOKUP($G29,B26:E35,3,0),1,0)) -> 0 | K29: =IF($H29=0,0,IF(VLOOKUP($G29,B26:E35,2,0)<VLOOKUP($G29,B26:E35,3,0),1,0)) -> 1 | L29: =IF($H29=0,0,VLOOKUP($G29,B26:E35,2,0)) -> 2 | M29: =IF($H29=0,0,VLOOKUP($G29,B26:E35,3,0)) -> 3
A30: 3 | B30: Lost&Damned Resurrection | C30: 2 | D30: 2 | E30: Malekith's Corsairs | G30: Krebsgeschwader [BBL] | H30: =IF(ISNA(VLOOKUP($G30,B26:E35,2,0)),0,1) -> 1 | I30: =IF($H30=0,0,IF(VLOOKUP($G30,B26:E35,2,0)>VLOOKUP($G30,B26:E35,3,0),1,0)) -> 0 | J30: =IF($H30=0,0,IF(VLOOKUP($G30,B26:E35,2,0)=VLOOKUP($G30,B26:E35,3,0),1,0)) -> 0 | K30: =IF($H30=0,0,IF(VLOOKUP($G30,B26:E35,2,0)<VLOOKUP($G30,B26:E35,3,0),1,0)) -> 1 | L30: =IF($H30=0,0,VLOOKUP($G30,B26:E35,2,0)) -> 1 | M30: =IF($H30=0,0,VLOOKUP($G30,B26:E35,3,0)) -> 2 | O30: ="[b]"&B30&"[/b]"&" ("&VLOOKUP(B30,Tabelle!$B$2:$C$11,2,FALSE)&") - [b]"&E30&"[/b]"&" ("&VLOOKUP(E30,Tabelle!$B$2:$C$11,2,FALSE)&")" -> [b]Lost&Damned Resurrection[/b] (Wolf_Dislike) - [b]Malekith's Corsairs[/b] (Stompot)
B31: =E30 -> Malekith's Corsairs | C31: =D30 -> 2 | D31: =C30 -> 2 | E31: =B30 -> Lost&Damned Resurrection | G31: Lost&Damned Resurrection | H31: =IF(ISNA(VLOOKUP($G31,B26:E35,2,0)),0,1) -> 1 | I31: =IF($H31=0,0,IF(VLOOKUP($G31,B26:E35,2,0)>VLOOKUP($G31,B26:E35,3,0),1,0)) -> 0 | J31: =IF($H31=0,0,IF(VLOOKUP($G31,B26:E35,2,0)=VLOOKUP($G31,B26:E35,3,0),1,0)) -> 1 | K31: =IF($H31=0,0,IF(VLOOKUP($G31,B26:E35,2,0)<VLOOKUP($G31,B26:E35,3,0),1,0)) -> 0 | L31: =IF($H31=0,0,VLOOKUP($G31,B26:E35,2,0)) -> 2 | M31: =IF($H31=0,0,VLOOKUP($G31,B26:E35,3,0)) -> 2
A32: 4 | B32: Krebsgeschwader [BBL] | C32: 1 | D32: 2 | E32: Borgia's Bullen | G32: Malekith's Corsairs | H32: =IF(ISNA(VLOOKUP($G32,B26:E35,2,0)),0,1) -> 1 | I32: =IF($H32=0,0,IF(VLOOKUP($G32,B26:E35,2,0)>VLOOKUP($G32,B26:E35,3,0),1,0)) -> 0 | J32: =IF($H32=0,0,IF(VLOOKUP($G32,B26:E35,2,0)=VLOOKUP($G32,B26:E35,3,0),1,0)) -> 1 | K32: =IF($H32=0,0,IF(VLOOKUP($G32,B26:E35,2,0)<VLOOKUP($G32,B26:E35,3,0),1,0)) -> 0 | L32: =IF($H32=0,0,VLOOKUP($G32,B26:E35,2,0)) -> 2 | M32: =IF($H32=0,0,VLOOKUP($G32,B26:E35,3,0)) -> 2 | O32: ="[b]"&B32&"[/b]"&" ("&VLOOKUP(B32,Tabelle!$B$2:$C$11,2,FALSE)&") - [b]"&E32&"[/b]"&" ("&VLOOKUP(E32,Tabelle!$B$2:$C$11,2,FALSE)&")" -> [b]Krebsgeschwader [BBL][/b] (Suaron) - [b]Borgia's Bullen[/b] (Masurk)
B33: =E32 -> Borgia's Bullen | C33: =D32 -> 2 | D33: =C32 -> 1 | E33: =B32 -> Krebsgeschwader [BBL] | G33: Tawarwaith Lothlorien | H33: =IF(ISNA(VLOOKUP($G33,B26:E35,2,0)),0,1) -> 1 | I33: =IF($H33=0,0,IF(VLOOKUP($G33,B26:E35,2,0)>VLOOKUP($G33,B26:E35,3,0),1,0)) -> 1 | J33: =IF($H33=0,0,IF(VLOOKUP($G33,B26:E35,2,0)=VLOOKUP($G33,B26:E35,3,0),1,0)) -> 0 | K33: =IF($H33=0,0,IF(VLOOKUP($G33,B26:E35,2,0)<VLOOKUP($G33,B26:E35,3,0),1,0)) -> 0 | L33: =IF($H33=0,0,VLOOKUP($G33,B26:E35,2,0)) -> 2 | M33: =IF($H33=0,0,VLOOKUP($G33,B26:E35,3,0)) -> 1
A34: 5 | B34: BluMen-Group | C34: 3 | D34: 2 | E34: Golden Lizards Graz | G34: The Chaotic Hipstering | H34: =IF(ISNA(VLOOKUP($G34,B26:E35,2,0)),0,1) -> 1 | I34: =IF($H34=0,0,IF(VLOOKUP($G34,B26:E35,2,0)>VLOOKUP($G34,B26:E35,3,0),1,0)) -> 0 | J34: =IF($H34=0,0,IF(VLOOKUP($G34,B26:E35,2,0)=VLOOKUP($G34,B26:E35,3,0),1,0)) -> 0 | K34: =IF($H34=0,0,IF(VLOOKUP($G34,B26:E35,2,0)<VLOOKUP($G34,B26:E35,3,0),1,0)) -> 1 | L34: =IF($H34=0,0,VLOOKUP($G34,B26:E35,2,0)) -> 1 | M34: =IF($H34=0,0,VLOOKUP($G34,B26:E35,3,0)) -> 2 | O34: ="[b]"&B34&"[/b]"&" ("&VLOOKUP(B34,Tabelle!$B$2:$C$11,2,FALSE)&") - [b]"&E34&"[/b]"&" ("&VLOOKUP(E34,Tabelle!$B$2:$C$11,2,FALSE)&")" -> [b]BluMen-Group[/b] (Sandmännchen) - [b]Golden Lizards Graz[/b] (Murgor17)
B35: =E34 -> Golden Lizards Graz | C35: =D34 -> 2 | D35: =C34 -> 3 | E35: =B34 -> BluMen-Group | G35: Was Lacostet die Welt III | H35: =IF(ISNA(VLOOKUP($G35,B26:E35,2,0)),0,1) -> 1 | I35: =IF($H35=0,0,IF(VLOOKUP($G35,B26:E35,2,0)>VLOOKUP($G35,B26:E35,3,0),1,0)) -> 0 | J35: =IF($H35=0,0,IF(VLOOKUP($G35,B26:E35,2,0)=VLOOKUP($G35,B26:E35,3,0),1,0)) -> 0 | K35: =IF($H35=0,0,IF(VLOOKUP($G35,B26:E35,2,0)<VLOOKUP($G35,B26:E35,3,0),1,0)) -> 1 | L35: =IF($H35=0,0,VLOOKUP($G35,B26:E35,2,0)) -> 1 | M35: =IF($H35=0,0,VLOOKUP($G35,B26:E35,3,0)) -> 2
A37: Spieltag4 | B37: Mannschaft1 | C37: Touchdowns1 | D37: Touchdowns2 | E37: Mannschaft2 | G37: Tabelle4 | I37: S | J37: U | K37: N | L37: TD | M37: GTD
A38: 1 | B38: Tawarwaith Lothlorien | C38: 2 | D38: 2 | E38: Was Lacostet die Welt III | G38: BluMen-Group | H38: =IF(ISNA(VLOOKUP($G38,B38:E47,2,0)),0,1) -> 1 | I38: =IF($H38=0,0,IF(VLOOKUP($G38,B38:E47,2,0)>VLOOKUP($G38,B38:E47,3,0),1,0)) -> 1 | J38: =IF($H38=0,0,IF(VLOOKUP($G38,B38:E47,2,0)=VLOOKUP($G38,B38:E47,3,0),1,0)) -> 0 | K38: =IF($H38=0,0,IF(VLOOKUP($G38,B38:E47,2,0)<VLOOKUP($G38,B38:E47,3,0),1,0)) -> 0 | L38: =IF($H38=0,0,VLOOKUP($G38,B38:E47,2,0)) -> 3 | M38: =IF($H38=0,0,VLOOKUP($G38,B38:E47,3,0)) -> 0 | O38: ="[b]"&B38&"[/b]"&" ("&VLOOKUP(B38,Tabelle!$B$2:$C$11,2,FALSE)&") - [b]"&E38&"[/b]"&" ("&VLOOKUP(E38,Tabelle!$B$2:$C$11,2,FALSE)&")" -> [b]Tawarwaith Lothlorien[/b] (Leonydas) - [b]Was Lacostet die Welt III[/b] (TiJaNe7)
B39: =E38 -> Was Lacostet die Welt III | C39: =D38 -> 2 | D39: =C38 -> 2 | E39: =B38 -> Tawarwaith Lothlorien | G39: Borgia's Bullen | H39: =IF(ISNA(VLOOKUP($G39,$B38:E47,2,0)),0,1) -> 1 | I39: =IF($H39=0,0,IF(VLOOKUP($G39,B38:E47,2,0)>VLOOKUP($G39,B38:E47,3,0),1,0)) -> 0 | J39: =IF($H39=0,0,IF(VLOOKUP($G39,B38:E47,2,0)=VLOOKUP($G39,B38:E47,3,0),1,0)) -> 1 | K39: =IF($H39=0,0,IF(VLOOKUP($G39,B38:E47,2,0)<VLOOKUP($G39,B38:E47,3,0),1,0)) -> 0 | L39: =IF($H39=0,0,VLOOKUP($G39,B38:E47,2,0)) -> 1 | M39: =IF($H39=0,0,VLOOKUP($G39,B38:E47,3,0)) -> 1
A40: 2 | B40: The Chaotic Hipstering | C40: 1 | D40: 2 | E40: Lost&Damned Resurrection | G40: Famous Generals | H40: =IF(ISNA(VLOOKUP($G40,B38:E47,2,0)),0,1) -> 1 | I40: =IF($H40=0,0,IF(VLOOKUP($G40,B38:E47,2,0)>VLOOKUP($G40,B38:E47,3,0),1,0)) -> 0 | J40: =IF($H40=0,0,IF(VLOOKUP($G40,B38:E47,2,0)=VLOOKUP($G40,B38:E47,3,0),1,0)) -> 0 | K40: =IF($H40=0,0,IF(VLOOKUP($G40,B38:E47,2,0)<VLOOKUP($G40,B38:E47,3,0),1,0)) -> 1 | L40: =IF($H40=0,0,VLOOKUP($G40,B38:E47,2,0)) -> 0 | M40: =IF($H40=0,0,VLOOKUP($G40,B38:E47,3,0)) -> 2 | O40: ="[b]"&B40&"[/b]"&" ("&VLOOKUP(B40,Tabelle!$B$2:$C$11,2,FALSE)&") - [b]"&E40&"[/b]"&" ("&VLOOKUP(E40,Tabelle!$B$2:$C$11,2,FALSE)&")" -> [b]The Chaotic Hipstering[/b] (FuuX) - [b]Lost&Damned Resurrection[/b] (Wolf_Dislike)
B41: =E40 -> Lost&Damned Resurrection | C41: =D40 -> 2 | D41: =C40 -> 1 | E41: =B40 -> The Chaotic Hipstering | G41: Golden Lizards Graz | H41: =IF(ISNA(VLOOKUP($G41,B38:E47,2,0)),0,1) -> 1 | I41: =IF($H41=0,0,IF(VLOOKUP($G41,B38:E47,2,0)>VLOOKUP($G41,B38:E47,3,0),1,0)) -> 0 | J41: =IF($H41=0,0,IF(VLOOKUP($G41,B38:E47,2,0)=VLOOKUP($G41,B38:E47,3,0),1,0)) -> 1 | K41: =IF($H41=0,0,IF(VLOOKUP($G41,B38:E47,2,0)<VLOOKUP($G41,B38:E47,3,0),1,0)) -> 0 | L41: =IF($H41=0,0,VLOOKUP($G41,B38:E47,2,0)) -> 1 | M41: =IF($H41=0,0,VLOOKUP($G41,B38:E47,3,0)) -> 1
A42: 3 | B42: Famous Generals | C42: 0 | D42: 2 | E42: Krebsgeschwader [BBL] | G42: Krebsgeschwader [BBL] | H42: =IF(ISNA(VLOOKUP($G42,B38:E47,2,0)),0,1) -> 1 | I42: =IF($H42=0,0,IF(VLOOKUP($G42,B38:E47,2,0)>VLOOKUP($G42,B38:E47,3,0),1,0)) -> 1 | J42: =IF($H42=0,0,IF(VLOOKUP($G42,B38:E47,2,0)=VLOOKUP($G42,B38:E47,3,0),1,0)) -> 0 | K42: =IF($H42=0,0,IF(VLOOKUP($G42,B38:E47,2,0)<VLOOKUP($G42,B38:E47,3,0),1,0)) -> 0 | L42: =IF($H42=0,0,VLOOKUP($G42,B38:E47,2,0)) -> 2 | M42: =IF($H42=0,0,VLOOKUP($G42,B38:E47,3,0)) -> 0 | O42: ="[b]"&B42&"[/b]"&" ("&VLOOKUP(B42,Tabelle!$B$2:$C$11,2,FALSE)&") - [b]"&E42&"[/b]"&" ("&VLOOKUP(E42,Tabelle!$B$2:$C$11,2,FALSE)&")" -> [b]Famous Generals[/b] (Adrian0815) - [b]Krebsgeschwader [BBL][/b] (Suaron)
B43: =E42 -> Krebsgeschwader [BBL] | C43: =D42 -> 2 | D43: =C42 -> 0 | E43: =B42 -> Famous Generals | G43: Lost&Damned Resurrection | H43: =IF(ISNA(VLOOKUP($G43,B38:E47,2,0)),0,1) -> 1 | I43: =IF($H43=0,0,IF(VLOOKUP($G43,B38:E47,2,0)>VLOOKUP($G43,B38:E47,3,0),1,0)) -> 1 | J43: =IF($H43=0,0,IF(VLOOKUP($G43,B38:E47,2,0)=VLOOKUP($G43,B38:E47,3,0),1,0)) -> 0 | K43: =IF($H43=0,0,IF(VLOOKUP($G43,B38:E47,2,0)<VLOOKUP($G43,B38:E47,3,0),1,0)) -> 0 | L43: =IF($H43=0,0,VLOOKUP($G43,B38:E47,2,0)) -> 2 | M43: =IF($H43=0,0,VLOOKUP($G43,B38:E47,3,0)) -> 1
A44: 4 | B44: Malekith's Corsairs | C44: 0 | D44: 3 | E44: BluMen-Group | G44: Malekith's Corsairs | H44: =IF(ISNA(VLOOKUP($G44,B38:E47,2,0)),0,1) -> 1 | I44: =IF($H44=0,0,IF(VLOOKUP($G44,B38:E47,2,0)>VLOOKUP($G44,B38:E47,3,0),1,0)) -> 0 | J44: =IF($H44=0,0,IF(VLOOKUP($G44,B38:E47,2,0)=VLOOKUP($G44,B38:E47,3,0),1,0)) -> 0 | K44: =IF($H44=0,0,IF(VLOOKUP($G44,B38:E47,2,0)<VLOOKUP($G44,B38:E47,3,0),1,0)) -> 1 | L44: =IF($H44=0,0,VLOOKUP($G44,B38:E47,2,0)) -> 0 | M44: =IF($H44=0,0,VLOOKUP($G44,B38:E47,3,0)) -> 3 | O44: ="[b]"&B44&"[/b]"&" ("&VLOOKUP(B44,Tabelle!$B$2:$C$11,2,FALSE)&") - [b]"&E44&"[/b]"&" ("&VLOOKUP(E44,Tabelle!$B$2:$C$11,2,FALSE)&")" -> [b]Malekith's Corsairs[/b] (Stompot) - [b]BluMen-Group[/b] (Sandmännchen)
B45: =E44 -> BluMen-Group | C45: =D44 -> 3 | D45: =C44 -> 0 | E45: =B44 -> Malekith's Corsairs | G45: Tawarwaith Lothlorien | H45: =IF(ISNA(VLOOKUP($G45,B38:E47,2,0)),0,1) -> 1 | I45: =IF($H45=0,0,IF(VLOOKUP($G45,B38:E47,2,0)>VLOOKUP($G45,B38:E47,3,0),1,0)) -> 0 | J45: =IF($H45=0,0,IF(VLOOKUP($G45,B38:E47,2,0)=VLOOKUP($G45,B38:E47,3,0),1,0)) -> 1 | K45: =IF($H45=0,0,IF(VLOOKUP($G45,B38:E47,2,0)<VLOOKUP($G45,B38:E47,3,0),1,0)) -> 0 | L45: =IF($H45=0,0,VLOOKUP($G45,B38:E47,2,0)) -> 2 | M45: =IF($H45=0,0,VLOOKUP($G45,B38:E47,3,0)) -> 2
A46: 5 | B46: Borgia's Bullen | C46: 1 | D46: 1 | E46: Golden Lizards Graz | G46: The Chaotic Hipstering | H46: =IF(ISNA(VLOOKUP($G46,B38:E47,2,0)),0,1) -> 1 | I46: =IF($H46=0,0,IF(VLOOKUP($G46,B38:E47,2,0)>VLOOKUP($G46,B38:E47,3,0),1,0)) -> 0 | J46: =IF($H46=0,0,IF(VLOOKUP($G46,B38:E47,2,0)=VLOOKUP($G46,B38:E47,3,0),1,0)) -> 0 | K46: =IF($H46=0,0,IF(VLOOKUP($G46,B38:E47,2,0)<VLOOKUP($G46,B38:E47,3,0),1,0)) -> 1 | L46: =IF($H46=0,0,VLOOKUP($G46,B38:E47,2,0)) -> 1 | M46: =IF($H46=0,0,VLOOKUP($G46,B38:E47,3,0)) -> 2 | O46: ="[b]"&B46&"[/b]"&" ("&VLOOKUP(B46,Tabelle!$B$2:$C$11,2,FALSE)&") - [b]"&E46&"[/b]"&" ("&VLOOKUP(E46,Tabelle!$B$2:$C$11,2,FALSE)&")" -> [b]Borgia's Bullen[/b] (Masurk) - [b]Golden Lizards Graz[/b] (Murgor17)
B47: =E46 -> Golden Lizards Graz | C47: =D46 -> 1 | D47: =C46 -> 1 | E47: =B46 -> Borgia's Bullen | G47: Was Lacostet die Welt III | H47: =IF(ISNA(VLOOKUP($G47,B38:E47,2,0)),0,1) -> 1 | I47: =IF($H47=0,0,IF(VLOOKUP($G47,B38:E47,2,0)>VLOOKUP($G47,B38:E47,3,0),1,0)) -> 0 | J47: =IF($H47=0,0,IF(VLOOKUP($G47,B38:E47,2,0)=VLOOKUP($G47,B38:E47,3,0),1,0)) -> 1 | K47: =IF($H47=0,0,IF(VLOOKUP($G47,B38:E47,2,0)<VLOOKUP($G47,B38:E47,3,0),1,0)) -> 0 | L47: =IF($H47=0,0,VLOOKUP($G47,B38:E47,2,0)) -> 2 | M47: =IF($H47=0,0,VLOOKUP($G47,B38:E47,3,0)) -> 2
A49: Spieltag5 | B49: Mannschaft1 | C49: Touchdowns1 | D49: Touchdowns2 | E49: Mannschaft2 | G49: Tabelle5 | I49: S | J49: U | K49: N | L49: TD | M49: GTD
A50: 1 | B50: Malekith's Corsairs | C50: 2 | D50: 2 | E50: Tawarwaith Lothlorien | G50: BluMen-Group | H50: =IF(ISNA(VLOOKUP($G50,B50:E59,2,0)),0,1) -> 1 | I50: =IF($H50=0,0,IF(VLOOKUP($G50,B50:E59,2,0)>VLOOKUP($G50,B50:E59,3,0),1,0)) -> 1 | J50: =IF($H50=0,0,IF(VLOOKUP($G50,B50:E59,2,0)=VLOOKUP($G50,B50:E59,3,0),1,0)) -> 0 | K50: =IF($H50=0,0,IF(VLOOKUP($G50,B50:E59,2,0)<VLOOKUP($G50,B50:E59,3,0),1,0)) -> 0 | L50: =IF($H50=0,0,VLOOKUP($G50,B50:E59,2,0)) -> 4 | M50: =IF($H50=0,0,VLOOKUP($G50,B50:E59,3,0)) -> 1 | O50: ="[b]"&B50&"[/b]"&" ("&VLOOKUP(B50,Tabelle!$B$2:$C$11,2,FALSE)&") - [b]"&E50&"[/b]"&" ("&VLOOKUP(E50,Tabelle!$B$2:$C$11,2,FALSE)&")" -> [b]Malekith's Corsairs[/b] (Stompot) - [b]Tawarwaith Lothlorien[/b] (Leonydas)
B51: =E50 -> Tawarwaith Lothlorien | C51: =D50 -> 2 | D51: =C50 -> 2 | E51: =B50 -> Malekith's Corsairs | G51: Borgia's Bullen | H51: =IF(ISNA(VLOOKUP($G51,$B50:E59,2,0)),0,1) -> 1 | I51: =IF($H51=0,0,IF(VLOOKUP($G51,B50:E59,2,0)>VLOOKUP($G51,B50:E59,3,0),1,0)) -> 0 | J51: =IF($H51=0,0,IF(VLOOKUP($G51,B50:E59,2,0)=VLOOKUP($G51,B50:E59,3,0),1,0)) -> 0 | K51: =IF($H51=0,0,IF(VLOOKUP($G51,B50:E59,2,0)<VLOOKUP($G51,B50:E59,3,0),1,0)) -> 1 | L51: =IF($H51=0,0,VLOOKUP($G51,B50:E59,2,0)) -> 1 | M51: =IF($H51=0,0,VLOOKUP($G51,B50:E59,3,0)) -> 2
A52: 2 | B52: Famous Generals | C52: 2 | D52: 1 | E52: Borgia's Bullen | G52: Famous Generals | H52: =IF(ISNA(VLOOKUP($G52,B50:E59,2,0)),0,1) -> 1 | I52: =IF($H52=0,0,IF(VLOOKUP($G52,B50:E59,2,0)>VLOOKUP($G52,B50:E59,3,0),1,0)) -> 1 | J52: =IF($H52=0,0,IF(VLOOKUP($G52,B50:E59,2,0)=VLOOKUP($G52,B50:E59,3,0),1,0)) -> 0 | K52: =IF($H52=0,0,IF(VLOOKUP($G52,B50:E59,2,0)<VLOOKUP($G52,B50:E59,3,0),1,0)) -> 0 | L52: =IF($H52=0,0,VLOOKUP($G52,B50:E59,2,0)) -> 2 | M52: =IF($H52=0,0,VLOOKUP($G52,B50:E59,3,0)) -> 1 | O52: ="[b]"&B52&"[/b]"&" ("&VLOOKUP(B52,Tabelle!$B$2:$C$11,2,FALSE)&") - [b]"&E52&"[/b]"&" ("&VLOOKUP(E52,Tabelle!$B$2:$C$11,2,FALSE)&")" -> [b]Famous Generals[/b] (Adrian0815) - [b]Borgia's Bullen[/b] (Masurk)
B53: =E52 -> Borgia's Bullen | C53: =D52 -> 1 | D53: =C52 -> 2 | E53: =B52 -> Famous Generals | G53: Golden Lizards Graz | H53: =IF(ISNA(VLOOKUP($G53,B50:E59,2,0)),0,1) -> 1 | I53: =IF($H53=0,0,IF(VLOOKUP($G53,B50:E59,2,0)>VLOOKUP($G53,B50:E59,3,0),1,0)) -> 1 | J53: =IF($H53=0,0,IF(VLOOKUP($G53,B50:E59,2,0)=VLOOKUP($G53,B50:E59,3,0),1,0)) -> 0 | K53: =IF($H53=0,0,IF(VLOOKUP($G53,B50:E59,2,0)<VLOOKUP($G53,B50:E59,3,0),1,0)) -> 0 | L53: =IF($H53=0,0,VLOOKUP($G53,B50:E59,2,0)) -> 3 | M53: =IF($H53=0,0,VLOOKUP($G53,B50:E59,3,0)) -> 0
A54: 3 | B54: The Chaotic Hipstering | C54: 0 | D54: 3 | E54: Golden Lizards Graz | G54: Krebsgeschwader [BBL] | H54: =IF(ISNA(VLOOKUP($G54,B50:E59,2,0)),0,1) -> 1 | I54: =IF($H54=0,0,IF(VLOOKUP($G54,B50:E59,2,0)>VLOOKUP($G54,B50:E59,3,0),1,0)) -> 0 | J54: =IF($H54=0,0,IF(VLOOKUP($G54,B50:E59,2,0)=VLOOKUP($G54,B50:E59,3,0),1,0)) -> 0 | K54: =IF($H54=0,0,IF(VLOOKUP($G54,B50:E59,2,0)<VLOOKUP($G54,B50:E59,3,0),1,0)) -> 1 | L54: =IF($H54=0,0,VLOOKUP($G54,B50:E59,2,0)) -> 0 | M54: =IF($H54=0,0,VLOOKUP($G54,B50:E59,3,0)) -> 1 | O54: ="[b]"&B54&"[/b]"&" ("&VLOOKUP(B54,Tabelle!$B$2:$C$11,2,FALSE)&") - [b]"&E54&"[/b]"&" ("&VLOOKUP(E54,Tabelle!$B$2:$C$11,2,FALSE)&")" -> [b]The Chaotic Hipstering[/b] (FuuX) - [b]Golden Lizards Graz[/b] (Murgor17)
B55: =E54 -> Golden Lizards Graz | C55: =D54 -> 3 | D55: =C54 -> 0 | E55: =B54 -> The Chaotic Hipstering | G55: Lost&Damned Resurrection | H55: =IF(ISNA(VLOOKUP($G55,B50:E59,2,0)),0,1) -> 1 | I55: =IF($H55=0,0,IF(VLOOKUP($G55,B50:E59,2,0)>VLOOKUP($G55,B50:E59,3,0),1,0)) -> 1 | J55: =IF($H55=0,0,IF(VLOOKUP($G55,B50:E59,2,0)=VLOOKUP($G55,B50:E59,3,0),1,0)) -> 0 | K55: =IF($H55=0,0,IF(VLOOKUP($G55,B50:E59,2,0)<VLOOKUP($G55,B50:E59,3,0),1,0)) -> 0 | L55: =IF($H55=0,0,VLOOKUP($G55,B50:E59,2,0)) -> 1 | M55: =IF($H55=0,0,VLOOKUP($G55,B50:E59,3,0)) -> 0
A56: 4 | B56: Was Lacostet die Welt III | C56: 1 | D56: 4 | E56: BluMen-Group | G56: Malekith's Corsairs | H56: =IF(ISNA(VLOOKUP($G56,B50:E59,2,0)),0,1) -> 1 | I56: =IF($H56=0,0,IF(VLOOKUP($G56,B50:E59,2,0)>VLOOKUP($G56,B50:E59,3,0),1,0)) -> 0 | J56: =IF($H56=0,0,IF(VLOOKUP($G56,B50:E59,2,0)=VLOOKUP($G56,B50:E59,3,0),1,0)) -> 1 | K56: =IF($H56=0,0,IF(VLOOKUP($G56,B50:E59,2,0)<VLOOKUP($G56,B50:E59,3,0),1,0)) -> 0 | L56: =IF($H56=0,0,VLOOKUP($G56,B50:E59,2,0)) -> 2 | M56: =IF($H56=0,0,VLOOKUP($G56,B50:E59,3,0)) -> 2 | O56: ="[b]"&B56&"[/b]"&" ("&VLOOKUP(B56,Tabelle!$B$2:$C$11,2,FALSE)&") - [b]"&E56&"[/b]"&" ("&VLOOKUP(E56,Tabelle!$B$2:$C$11,2,FALSE)&")" -> [b]Was Lacostet die Welt III[/b] (TiJaNe7) - [b]BluMen-Group[/b] (Sandmännchen)
B57: =E56 -> BluMen-Group | C57: =D56 -> 4 | D57: =C56 -> 1 | E57: =B56 -> Was Lacostet die Welt III | G57: Tawarwaith Lothlorien | H57: =IF(ISNA(VLOOKUP($G57,B50:E59,2,0)),0,1) -> 1 | I57: =IF($H57=0,0,IF(VLOOKUP($G57,B50:E59,2,0)>VLOOKUP($G57,B50:E59,3,0),1,0)) -> 0 | J57: =IF($H57=0,0,IF(VLOOKUP($G57,B50:E59,2,0)=VLOOKUP($G57,B50:E59,3,0),1,0)) -> 1 | K57: =IF($H57=0,0,IF(VLOOKUP($G57,B50:E59,2,0)<VLOOKUP($G57,B50:E59,3,0),1,0)) -> 0 | L57: =IF($H57=0,0,VLOOKUP($G57,B50:E59,2,0)) -> 2 | M57: =IF($H57=0,0,VLOOKUP($G57,B50:E59,3,0)) -> 2
A58: 5 | B58: Lost&Damned Resurrection | C58: 1 | D58: 0 | E58: Krebsgeschwader [BBL] | G58: The Chaotic Hipstering | H58: =IF(ISNA(VLOOKUP($G58,B50:E59,2,0)),0,1) -> 1 | I58: =IF($H58=0,0,IF(VLOOKUP($G58,B50:E59,2,0)>VLOOKUP($G58,B50:E59,3,0),1,0)) -> 0 | J58: =IF($H58=0,0,IF(VLOOKUP($G58,B50:E59,2,0)=VLOOKUP($G58,B50:E59,3,0),1,0)) -> 0 | K58: =IF($H58=0,0,IF(VLOOKUP($G58,B50:E59,2,0)<VLOOKUP($G58,B50:E59,3,0),1,0)) -> 1 | L58: =IF($H58=0,0,VLOOKUP($G58,B50:E59,2,0)) -> 0 | M58: =IF($H58=0,0,VLOOKUP($G58,B50:E59,3,0)) -> 3 | O58: ="[b]"&B58&"[/b]"&" ("&VLOOKUP(B58,Tabelle!$B$2:$C$11,2,FALSE)&") - [b]"&E58&"[/b]"&" ("&VLOOKUP(E58,Tabelle!$B$2:$C$11,2,FALSE)&")" -> [b]Lost&Damned Resurrection[/b] (Wolf_Dislike) - [b]Krebsgeschwader [BBL][/b] (Suaron)
B59: =E58 -> Krebsgeschwader [BBL] | C59: =D58 -> 0 | D59: =C58 -> 1 | E59: =B58 -> Lost&Damned Resurrection | G59: Was Lacostet die Welt III | H59: =IF(ISNA(VLOOKUP($G59,B50:E59,2,0)),0,1) -> 1 | I59: =IF($H59=0,0,IF(VLOOKUP($G59,B50:E59,2,0)>VLOOKUP($G59,B50:E59,3,0),1,0)) -> 0 | J59: =IF($H59=0,0,IF(VLOOKUP($G59,B50:E59,2,0)=VLOOKUP($G59,B50:E59,3,0),1,0)) -> 0 | K59: =IF($H59=0,0,IF(VLOOKUP($G59,B50:E59,2,0)<VLOOKUP($G59,B50:E59,3,0),1,0)) -> 1 | L59: =IF($H59=0,0,VLOOKUP($G59,B50:E59,2,0)) -> 1 | M59: =IF($H59=0,0,VLOOKUP($G59,B50:E59,3,0)) -> 4
A61: Spieltag6 | B61: Mannschaft1 | C61: Touchdowns1 | D61: Touchdowns2 | E61: Mannschaft2 | G61: Tabelle6 | I61: S | J61: U | K61: N | L61: TD | M61: GTD
A62: 1 | B62: Tawarwaith Lothlorien | C62: 0 | D62: 2 | E62: Borgia's Bullen | G62: BluMen-Group | H62: =IF(ISNA(VLOOKUP($G62,B62:E71,2,0)),0,1) -> 1 | I62: =IF($H62=0,0,IF(VLOOKUP($G62,B62:E71,2,0)>VLOOKUP($G62,B62:E71,3,0),1,0)) -> 1 | J62: =IF($H62=0,0,IF(VLOOKUP($G62,B62:E71,2,0)=VLOOKUP($G62,B62:E71,3,0),1,0)) -> 0 | K62: =IF($H62=0,0,IF(VLOOKUP($G62,B62:E71,2,0)<VLOOKUP($G62,B62:E71,3,0),1,0)) -> 0 | L62: =IF($H62=0,0,VLOOKUP($G62,B62:E71,2,0)) -> 1 | M62: =IF($H62=0,0,VLOOKUP($G62,B62:E71,3,0)) -> 0 | O62: ="[b]"&B62&"[/b]"&" ("&VLOOKUP(B62,Tabelle!$B$2:$C$11,2,FALSE)&") - [b]"&E62&"[/b]"&" ("&VLOOKUP(E62,Tabelle!$B$2:$C$11,2,FALSE)&")" -> [b]Tawarwaith Lothlorien[/b] (Leonydas) - [b]Borgia's Bullen[/b] (Masurk)
B63: =E62 -> Borgia's Bullen | C63: =D62 -> 2 | D63: =C62 -> 0 | E63: =B62 -> Tawarwaith Lothlorien | G63: Borgia's Bullen | H63: =IF(ISNA(VLOOKUP($G63,$B62:E71,2,0)),0,1) -> 1 | I63: =IF($H63=0,0,IF(VLOOKUP($G63,B62:E71,2,0)>VLOOKUP($G63,B62:E71,3,0),1,0)) -> 1 | J63: =IF($H63=0,0,IF(VLOOKUP($G63,B62:E71,2,0)=VLOOKUP($G63,B62:E71,3,0),1,0)) -> 0 | K63: =IF($H63=0,0,IF(VLOOKUP($G63,B62:E71,2,0)<VLOOKUP($G63,B62:E71,3,0),1,0)) -> 0 | L63: =IF($H63=0,0,VLOOKUP($G63,B62:E71,2,0)) -> 2 | M63: =IF($H63=0,0,VLOOKUP($G63,B62:E71,3,0)) -> 0
A64: 2 | B64: Golden Lizards Graz | C64: 1 | D64: 0 | E64: Malekith's Corsairs | G64: Famous Generals | H64: =IF(ISNA(VLOOKUP($G64,B62:E71,2,0)),0,1) -> 1 | I64: =IF($H64=0,0,IF(VLOOKUP($G64,B62:E71,2,0)>VLOOKUP($G64,B62:E71,3,0),1,0)) -> 0 | J64: =IF($H64=0,0,IF(VLOOKUP($G64,B62:E71,2,0)=VLOOKUP($G64,B62:E71,3,0),1,0)) -> 0 | K64: =IF($H64=0,0,IF(VLOOKUP($G64,B62:E71,2,0)<VLOOKUP($G64,B62:E71,3,0),1,0)) -> 1 | L64: =IF($H64=0,0,VLOOKUP($G64,B62:E71,2,0)) -> 0 | M64: =IF($H64=0,0,VLOOKUP($G64,B62:E71,3,0)) -> 1 | O64: ="[b]"&B64&"[/b]"&" ("&VLOOKUP(B64,Tabelle!$B$2:$C$11,2,FALSE)&") - [b]"&E64&"[/b]"&" ("&VLOOKUP(E64,Tabelle!$B$2:$C$11,2,FALSE)&")" -> [b]Golden Lizards Graz[/b] (Murgor17) - [b]Malekith's Corsairs[/b] (Stompot)
B65: =E64 -> Malekith's Corsairs | C65: =D64 -> 0 | D65: =C64 -> 1 | E65: =B64 -> Golden Lizards Graz | G65: Golden Lizards Graz | H65: =IF(ISNA(VLOOKUP($G65,B62:E71,2,0)),0,1) -> 1 | I65: =IF($H65=0,0,IF(VLOOKUP($G65,B62:E71,2,0)>VLOOKUP($G65,B62:E71,3,0),1,0)) -> 1 | J65: =IF($H65=0,0,IF(VLOOKUP($G65,B62:E71,2,0)=VLOOKUP($G65,B62:E71,3,0),1,0)) -> 0 | K65: =IF($H65=0,0,IF(VLOOKUP($G65,B62:E71,2,0)<VLOOKUP($G65,B62:E71,3,0),1,0)) -> 0 | L65: =IF($H65=0,0,VLOOKUP($G65,B62:E71,2,0)) -> 1 | M65: =IF($H65=0,0,VLOOKUP($G65,B62:E71,3,0)) -> 0
A66: 3 | B66: BluMen-Group | C66: 1 | D66: 0 | E66: Famous Generals | G66: Krebsgeschwader [BBL] | H66: =IF(ISNA(VLOOKUP($G66,B62:E71,2,0)),0,1) -> 1 | I66: =IF($H66=0,0,IF(VLOOKUP($G66,B62:E71,2,0)>VLOOKUP($G66,B62:E71,3,0),1,0)) -> 0 | J66: =IF($H66=0,0,IF(VLOOKUP($G66,B62:E71,2,0)=VLOOKUP($G66,B62:E71,3,0),1,0)) -> 0 | K66: =IF($H66=0,0,IF(VLOOKUP($G66,B62:E71,2,0)<VLOOKUP($G66,B62:E71,3,0),1,0)) -> 1 | L66: =IF($H66=0,0,VLOOKUP($G66,B62:E71,2,0)) -> 0 | M66: =IF($H66=0,0,VLOOKUP($G66,B62:E71,3,0)) -> 2 | O66: ="[b]"&B66&"[/b]"&" ("&VLOOKUP(B66,Tabelle!$B$2:$C$11,2,FALSE)&") - [b]"&E66&"[/b]"&" ("&VLOOKUP(E66,Tabelle!$B$2:$C$11,2,FALSE)&")" -> [b]BluMen-Group[/b] (Sandmännchen) - [b]Famous Generals[/b] (Adrian0815)
B67: =E66 -> Famous Generals | C67: =D66 -> 0 | D67: =C66 -> 1 | E67: =B66 -> BluMen-Group | G67: Lost&Damned Resurrection | H67: =IF(ISNA(VLOOKUP($G67,B62:E71,2,0)),0,1) -> 1 | I67: =IF($H67=0,0,IF(VLOOKUP($G67,B62:E71,2,0)>VLOOKUP($G67,B62:E71,3,0),1,0)) -> 1 | J67: =IF($H67=0,0,IF(VLOOKUP($G67,B62:E71,2,0)=VLOOKUP($G67,B62:E71,3,0),1,0)) -> 0 | K67: =IF($H67=0,0,IF(VLOOKUP($G67,B62:E71,2,0)<VLOOKUP($G67,B62:E71,3,0),1,0)) -> 0 | L67: =IF($H67=0,0,VLOOKUP($G67,B62:E71,2,0)) -> 2 | M67: =IF($H67=0,0,VLOOKUP($G67,B62:E71,3,0)) -> 0
A68: 4 | B68: Krebsgeschwader [BBL] | C68: 0 | D68: 2 | E68: The Chaotic Hipstering | G68: Malekith's Corsairs | H68: =IF(ISNA(VLOOKUP($G68,B62:E71,2,0)),0,1) -> 1 | I68: =IF($H68=0,0,IF(VLOOKUP($G68,B62:E71,2,0)>VLOOKUP($G68,B62:E71,3,0),1,0)) -> 0 | J68: =IF($H68=0,0,IF(VLOOKUP($G68,B62:E71,2,0)=VLOOKUP($G68,B62:E71,3,0),1,0)) -> 0 | K68: =IF($H68=0,0,IF(VLOOKUP($G68,B62:E71,2,0)<VLOOKUP($G68,B62:E71,3,0),1,0)) -> 1 | L68: =IF($H68=0,0,VLOOKUP($G68,B62:E71,2,0)) -> 0 | M68: =IF($H68=0,0,VLOOKUP($G68,B62:E71,3,0)) -> 1 | O68: ="[b]"&B68&"[/b]"&" ("&VLOOKUP(B68,Tabelle!$B$2:$C$11,2,FALSE)&") - [b]"&E68&"[/b]"&" ("&VLOOKUP(E68,Tabelle!$B$2:$C$11,2,FALSE)&")" -> [b]Krebsgeschwader [BBL][/b] (Suaron) - [b]The Chaotic Hipstering[/b] (FuuX)
B69: =E68 -> The Chaotic Hipstering | C69: =D68 -> 2 | D69: =C68 -> 0 | E69: =B68 -> Krebsgeschwader [BBL] | G69: Tawarwaith Lothlorien | H69: =IF(ISNA(VLOOKUP($G69,B62:E71,2,0)),0,1) -> 1 | I69: =IF($H69=0,0,IF(VLOOKUP($G69,B62:E71,2,0)>VLOOKUP($G69,B62:E71,3,0),1,0)) -> 0 | J69: =IF($H69=0,0,IF(VLOOKUP($G69,B62:E71,2,0)=VLOOKUP($G69,B62:E71,3,0),1,0)) -> 0 | K69: =IF($H69=0,0,IF(VLOOKUP($G69,B62:E71,2,0)<VLOOKUP($G69,B62:E71,3,0),1,0)) -> 1 | L69: =IF($H69=0,0,VLOOKUP($G69,B62:E71,2,0)) -> 0 | M69: =IF($H69=0,0,VLOOKUP($G69,B62:E71,3,0)) -> 2
A70: 5 | B70: Lost&Damned Resurrection | C70: 2 | D70: 0 | E70: Was Lacostet die Welt III | G70: The Chaotic Hipstering | H70: =IF(ISNA(VLOOKUP($G70,B62:E71,2,0)),0,1) -> 1 | I70: =IF($H70=0,0,IF(VLOOKUP($G70,B62:E71,2,0)>VLOOKUP($G70,B62:E71,3,0),1,0)) -> 1 | J70: =IF($H70=0,0,IF(VLOOKUP($G70,B62:E71,2,0)=VLOOKUP($G70,B62:E71,3,0),1,0)) -> 0 | K70: =IF($H70=0,0,IF(VLOOKUP($G70,B62:E71,2,0)<VLOOKUP($G70,B62:E71,3,0),1,0)) -> 0 | L70: =IF($H70=0,0,VLOOKUP($G70,B62:E71,2,0)) -> 2 | M70: =IF($H70=0,0,VLOOKUP($G70,B62:E71,3,0)) -> 0 | O70: ="[b]"&B70&"[/b]"&" ("&VLOOKUP(B70,Tabelle!$B$2:$C$11,2,FALSE)&") - [b]"&E70&"[/b]"&" ("&VLOOKUP(E70,Tabelle!$B$2:$C$11,2,FALSE)&")" -> [b]Lost&Damned Resurrection[/b] (Wolf_Dislike) - [b]Was Lacostet die Welt III[/b] (TiJaNe7)
B71: =E70 -> Was Lacostet die Welt III | C71: =D70 -> 0 | D71: =C70 -> 2 | E71: =B70 -> Lost&Damned Resurrection | G71: Was Lacostet die Welt III | H71: =IF(ISNA(VLOOKUP($G71,B62:E71,2,0)),0,1) -> 1 | I71: =IF($H71=0,0,IF(VLOOKUP($G71,B62:E71,2,0)>VLOOKUP($G71,B62:E71,3,0),1,0)) -> 0 | J71: =IF($H71=0,0,IF(VLOOKUP($G71,B62:E71,2,0)=VLOOKUP($G71,B62:E71,3,0),1,0)) -> 0 | K71: =IF($H71=0,0,IF(VLOOKUP($G71,B62:E71,2,0)<VLOOKUP($G71,B62:E71,3,0),1,0)) -> 1 | L71: =IF($H71=0,0,VLOOKUP($G71,B62:E71,2,0)) -> 0 | M71: =IF($H71=0,0,VLOOKUP($G71,B62:E71,3,0)) -> 2
A73: Spieltag7 | B73: Mannschaft1 | C73: Touchdowns1 | D73: Touchdowns2 | E73: Mannschaft2 | G73: Tabelle7 | I73: S | J73: U | K73: N | L73: TD | M73: GTD
A74: 1 | B74: BluMen-Group | C74: #N/A | D74: #N/A | E74: Tawarwaith Lothlorien | G74: BluMen-Group | H74: =IF(ISNA(VLOOKUP($G74,B74:E83,2,0)),0,1) -> 0 | I74: =IF($H74=0,0,IF(VLOOKUP($G74,B74:E83,2,0)>VLOOKUP($G74,B74:E83,3,0),1,0)) -> 0 | J74: =IF($H74=0,0,IF(VLOOKUP($G74,B74:E83,2,0)=VLOOKUP($G74,B74:E83,3,0),1,0)) -> 0 | K74: =IF($H74=0,0,IF(VLOOKUP($G74,B74:E83,2,0)<VLOOKUP($G74,B74:E83,3,0),1,0)) -> 0 | L74: =IF($H74=0,0,VLOOKUP($G74,B74:E83,2,0)) -> 0 | M74: =IF($H74=0,0,VLOOKUP($G74,B74:E83,3,0)) -> 0 | O74: ="[b]"&B74&"[/b]"&" ("&VLOOKUP(B74,Tabelle!$B$2:$C$11,2,FALSE)&") - [b]"&E74&"[/b]"&" ("&VLOOKUP(E74,Tabelle!$B$2:$C$11,2,FALSE)&")" -> [b]BluMen-Group[/b] (Sandmännchen) - [b]Tawarwaith Lothlorien[/b] (Leonydas)
B75: =E74 -> Tawarwaith Lothlorien | C75: =D74 -> #N/A | D75: =C74 -> #N/A | E75: =B74 -> BluMen-Group | G75: Borgia's Bullen | H75: =IF(ISNA(VLOOKUP($G75,$B74:E83,2,0)),0,1) -> 1 | I75: =IF($H75=0,0,IF(VLOOKUP($G75,B74:E83,2,0)>VLOOKUP($G75,B74:E83,3,0),1,0)) -> 0 | J75: =IF($H75=0,0,IF(VLOOKUP($G75,B74:E83,2,0)=VLOOKUP($G75,B74:E83,3,0),1,0)) -> 0 | K75: =IF($H75=0,0,IF(VLOOKUP($G75,B74:E83,2,0)<VLOOKUP($G75,B74:E83,3,0),1,0)) -> 1 | L75: =IF($H75=0,0,VLOOKUP($G75,B74:E83,2,0)) -> 0 | M75: =IF($H75=0,0,VLOOKUP($G75,B74:E83,3,0)) -> 1
A76: 2 | B76: Golden Lizards Graz | C76: 1 | D76: 2 | E76: Krebsgeschwader [BBL] | G76: Famous Generals | H76: =IF(ISNA(VLOOKUP($G76,B74:E83,2,0)),0,1) -> 0 | I76: =IF($H76=0,0,IF(VLOOKUP($G76,B74:E83,2,0)>VLOOKUP($G76,B74:E83,3,0),1,0)) -> 0 | J76: =IF($H76=0,0,IF(VLOOKUP($G76,B74:E83,2,0)=VLOOKUP($G76,B74:E83,3,0),1,0)) -> 0 | K76: =IF($H76=0,0,IF(VLOOKUP($G76,B74:E83,2,0)<VLOOKUP($G76,B74:E83,3,0),1,0)) -> 0 | L76: =IF($H76=0,0,VLOOKUP($G76,B74:E83,2,0)) -> 0 | M76: =IF($H76=0,0,VLOOKUP($G76,B74:E83,3,0)) -> 0 | O76: ="[b]"&B76&"[/b]"&" ("&VLOOKUP(B76,Tabelle!$B$2:$C$11,2,FALSE)&") - [b]"&E76&"[/b]"&" ("&VLOOKUP(E76,Tabelle!$B$2:$C$11,2,FALSE)&")" -> [b]Golden Lizards Graz[/b] (Murgor17) - [b]Krebsgeschwader [BBL][/b] (Suaron)
B77: =E76 -> Krebsgeschwader [BBL] | C77: =D76 -> 2 | D77: =C76 -> 1 | E77: =B76 -> Golden Lizards Graz | G77: Golden Lizards Graz | H77: =IF(ISNA(VLOOKUP($G77,B74:E83,2,0)),0,1) -> 1 | I77: =IF($H77=0,0,IF(VLOOKUP($G77,B74:E83,2,0)>VLOOKUP($G77,B74:E83,3,0),1,0)) -> 0 | J77: =IF($H77=0,0,IF(VLOOKUP($G77,B74:E83,2,0)=VLOOKUP($G77,B74:E83,3,0),1,0)) -> 0 | K77: =IF($H77=0,0,IF(VLOOKUP($G77,B74:E83,2,0)<VLOOKUP($G77,B74:E83,3,0),1,0)) -> 1 | L77: =IF($H77=0,0,VLOOKUP($G77,B74:E83,2,0)) -> 1 | M77: =IF($H77=0,0,VLOOKUP($G77,B74:E83,3,0)) -> 2
A78: 3 | B78: Borgia's Bullen | C78: 0 | D78: 1 | E78: Lost&Damned Resurrection | G78: Krebsgeschwader [BBL] | H78: =IF(ISNA(VLOOKUP($G78,B74:E83,2,0)),0,1) -> 1 | I78: =IF($H78=0,0,IF(VLOOKUP($G78,B74:E83,2,0)>VLOOKUP($G78,B74:E83,3,0),1,0)) -> 1 | J78: =IF($H78=0,0,IF(VLOOKUP($G78,B74:E83,2,0)=VLOOKUP($G78,B74:E83,3,0),1,0)) -> 0 | K78: =IF($H78=0,0,IF(VLOOKUP($G78,B74:E83,2,0)<VLOOKUP($G78,B74:E83,3,0),1,0)) -> 0 | L78: =IF($H78=0,0,VLOOKUP($G78,B74:E83,2,0)) -> 2 | M78: =IF($H78=0,0,VLOOKUP($G78,B74:E83,3,0)) -> 1 | O78: ="[b]"&B78&"[/b]"&" ("&VLOOKUP(B78,Tabelle!$B$2:$C$11,2,FALSE)&") - [b]"&E78&"[/b]"&" ("&VLOOKUP(E78,Tabelle!$B$2:$C$11,2,FALSE)&")" -> [b]Borgia's Bullen[/b] (Masurk) - [b]Lost&Damned Resurrection[/b] (Wolf_Dislike)
B79: =E78 -> Lost&Damned Resurrection | C79: =D78 -> 1 | D79: =C78 -> 0 | E79: =B78 -> Borgia's Bullen | G79: Lost&Damned Resurrection | H79: =IF(ISNA(VLOOKUP($G79,B74:E83,2,0)),0,1) -> 1 | I79: =IF($H79=0,0,IF(VLOOKUP($G79,B74:E83,2,0)>VLOOKUP($G79,B74:E83,3,0),1,0)) -> 1 | J79: =IF($H79=0,0,IF(VLOOKUP($G79,B74:E83,2,0)=VLOOKUP($G79,B74:E83,3,0),1,0)) -> 0 | K79: =IF($H79=0,0,IF(VLOOKUP($G79,B74:E83,2,0)<VLOOKUP($G79,B74:E83,3,0),1,0)) -> 0 | L79: =IF($H79=0,0,VLOOKUP($G79,B74:E83,2,0)) -> 1 | M79: =IF($H79=0,0,VLOOKUP($G79,B74:E83,3,0)) -> 0
A80: 4 | B80: Malekith's Corsairs | C80: #N/A | D80: #N/A | E80: Was Lacostet die Welt III | G80: Malekith's Corsairs | H80: =IF(ISNA(VLOOKUP($G80,B74:E83,2,0)),0,1) -> 0 | I80: =IF($H80=0,0,IF(VLOOKUP($G80,B74:E83,2,0)>VLOOKUP($G80,B74:E83,3,0),1,0)) -> 0 | J80: =IF($H80=0,0,IF(VLOOKUP($G80,B74:E83,2,0)=VLOOKUP($G80,B74:E83,3,0),1,0)) -> 0 | K80: =IF($H80=0,0,IF(VLOOKUP($G80,B74:E83,2,0)<VLOOKUP($G80,B74:E83,3,0),1,0)) -> 0 | L80: =IF($H80=0,0,VLOOKUP($G80,B74:E83,2,0)) -> 0 | M80: =IF($H80=0,0,VLOOKUP($G80,B74:E83,3,0)) -> 0 | O80: ="[b]"&B80&"[/b]"&" ("&VLOOKUP(B80,Tabelle!$B$2:$C$11,2,FALSE)&") - [b]"&E80&"[/b]"&" ("&VLOOKUP(E80,Tabelle!$B$2:$C$11,2,FALSE)&")" -> [b]Malekith's Corsairs[/b] (Stompot) - [b]Was Lacostet die Welt III[/b] (TiJaNe7)
B81: =E80 -> Was Lacostet die Welt III | C81: =D80 -> #N/A | D81: =C80 -> #N/A | E81: =B80 -> Malekith's Corsairs | G81: Tawarwaith Lothlorien | H81: =IF(ISNA(VLOOKUP($G81,B74:E83,2,0)),0,1) -> 0 | I81: =IF($H81=0,0,IF(VLOOKUP($G81,B74:E83,2,0)>VLOOKUP($G81,B74:E83,3,0),1,0)) -> 0 | J81: =IF($H81=0,0,IF(VLOOKUP($G81,B74:E83,2,0)=VLOOKUP($G81,B74:E83,3,0),1,0)) -> 0 | K81: =IF($H81=0,0,IF(VLOOKUP($G81,B74:E83,2,0)<VLOOKUP($G81,B74:E83,3,0),1,0)) -> 0 | L81: =IF($H81=0,0,VLOOKUP($G81,B74:E83,2,0)) -> 0 | M81: =IF($H81=0,0,VLOOKUP($G81,B74:E83,3,0)) -> 0
A82: 5 | B82: Famous Generals | C82: #N/A | D82: #N/A | E82: The Chaotic Hipstering | G82: The Chaotic Hipstering | H82: =IF(ISNA(VLOOKUP($G82,B74:E83,2,0)),0,1) -> 0 | I82: =IF($H82=0,0,IF(VLOOKUP($G82,B74:E83,2,0)>VLOOKUP($G82,B74:E83,3,0),1,0)) -> 0 | J82: =IF($H82=0,0,IF(VLOOKUP($G82,B74:E83,2,0)=VLOOKUP($G82,B74:E83,3,0),1,0)) -> 0 | K82: =IF($H82=0,0,IF(VLOOKUP($G82,B74:E83,2,0)<VLOOKUP($G82,B74:E83,3,0),1,0)) -> 0 | L82: =IF($H82=0,0,VLOOKUP($G82,B74:E83,2,0)) -> 0 | M82: =IF($H82=0,0,VLOOKUP($G82,B74:E83,3,0)) -> 0 | O82: ="[b]"&B82&"[/b]"&" ("&VLOOKUP(B82,Tabelle!$B$2:$C$11,2,FALSE)&") - [b]"&E82&"[/b]"&" ("&VLOOKUP(E82,Tabelle!$B$2:$C$11,2,FALSE)&")" -> [b]Famous Generals[/b] (Adrian0815) - [b]The Chaotic Hipstering[/b] (FuuX)
B83: =E82 -> The Chaotic Hipstering | C83: =D82 -> #N/A | D83: =C82 -> #N/A | E83: =B82 -> Famous Generals | G83: Was Lacostet die Welt III | H83: =IF(ISNA(VLOOKUP($G83,B74:E83,2,0)),0,1) -> 0 | I83: =IF($H83=0,0,IF(VLOOKUP($G83,B74:E83,2,0)>VLOOKUP($G83,B74:E83,3,0),1,0)) -> 0 | J83: =IF($H83=0,0,IF(VLOOKUP($G83,B74:E83,2,0)=VLOOKUP($G83,B74:E83,3,0),1,0)) -> 0 | K83: =IF($H83=0,0,IF(VLOOKUP($G83,B74:E83,2,0)<VLOOKUP($G83,B74:E83,3,0),1,0)) -> 0 | L83: =IF($H83=0,0,VLOOKUP($G83,B74:E83,2,0)) -> 0 | M83: =IF($H83=0,0,VLOOKUP($G83,B74:E83,3,0)) -> 0
A85: Spieltag8 | B85: Mannschaft1 | C85: Touchdowns1 | D85: Touchdowns2 | E85: Mannschaft2 | G85: Tabelle8 | I85: S | J85: U | K85: N | L85: TD | M85: GTD
A86: 1 | B86: Tawarwaith Lothlorien | C86: #N/A | D86: #N/A | E86: Famous Generals | G86: BluMen-Group | H86: =IF(ISNA(VLOOKUP($G86,B86:E95,2,0)),0,1) -> 0 | I86: =IF($H86=0,0,IF(VLOOKUP($G86,B86:E95,2,0)>VLOOKUP($G86,B86:E95,3,0),1,0)) -> 0 | J86: =IF($H86=0,0,IF(VLOOKUP($G86,B86:E95,2,0)=VLOOKUP($G86,B86:E95,3,0),1,0)) -> 0 | K86: =IF($H86=0,0,IF(VLOOKUP($G86,B86:E95,2,0)<VLOOKUP($G86,B86:E95,3,0),1,0)) -> 0 | L86: =IF($H86=0,0,VLOOKUP($G86,B86:E95,2,0)) -> 0 | M86: =IF($H86=0,0,VLOOKUP($G86,B86:E95,3,0)) -> 0 | O86: ="[b]"&B86&"[/b]"&" ("&VLOOKUP(B86,Tabelle!$B$2:$C$11,2,FALSE)&") - [b]"&E86&"[/b]"&" ("&VLOOKUP(E86,Tabelle!$B$2:$C$11,2,FALSE)&")" -> [b]Tawarwaith Lothlorien[/b] (Leonydas) - [b]Famous Generals[/b] (Adrian0815)
B87: =E86 -> Famous Generals | C87: =D86 -> #N/A | D87: =C86 -> #N/A | E87: =B86 -> Tawarwaith Lothlorien | G87: Borgia's Bullen | H87: =IF(ISNA(VLOOKUP($G87,$B86:E95,2,0)),0,1) -> 0 | I87: =IF($H87=0,0,IF(VLOOKUP($G87,B86:E95,2,0)>VLOOKUP($G87,B86:E95,3,0),1,0)) -> 0 | J87: =IF($H87=0,0,IF(VLOOKUP($G87,B86:E95,2,0)=VLOOKUP($G87,B86:E95,3,0),1,0)) -> 0 | K87: =IF($H87=0,0,IF(VLOOKUP($G87,B86:E95,2,0)<VLOOKUP($G87,B86:E95,3,0),1,0)) -> 0 | L87: =IF($H87=0,0,VLOOKUP($G87,B86:E95,2,0)) -> 0 | M87: =IF($H87=0,0,VLOOKUP($G87,B86:E95,3,0)) -> 0
A88: 2 | B88: Malekith's Corsairs | C88: #N/A | D88: #N/A | E88: The Chaotic Hipstering | G88: Famous Generals | H88: =IF(ISNA(VLOOKUP($G88,B86:E95,2,0)),0,1) -> 0 | I88: =IF($H88=0,0,IF(VLOOKUP($G88,B86:E95,2,0)>VLOOKUP($G88,B86:E95,3,0),1,0)) -> 0 | J88: =IF($H88=0,0,IF(VLOOKUP($G88,B86:E95,2,0)=VLOOKUP($G88,B86:E95,3,0),1,0)) -> 0 | K88: =IF($H88=0,0,IF(VLOOKUP($G88,B86:E95,2,0)<VLOOKUP($G88,B86:E95,3,0),1,0)) -> 0 | L88: =IF($H88=0,0,VLOOKUP($G88,B86:E95,2,0)) -> 0 | M88: =IF($H88=0,0,VLOOKUP($G88,B86:E95,3,0)) -> 0 | O88: ="[b]"&B88&"[/b]"&" ("&VLOOKUP(B88,Tabelle!$B$2:$C$11,2,FALSE)&") - [b]"&E88&"[/b]"&" ("&VLOOKUP(E88,Tabelle!$B$2:$C$11,2,FALSE)&")" -> [b]Malekith's Corsairs[/b] (Stompot) - [b]The Chaotic Hipstering[/b] (FuuX)
B89: =E88 -> The Chaotic Hipstering | C89: =D88 -> #N/A | D89: =C88 -> #N/A | E89: =B88 -> Malekith's Corsairs | G89: Golden Lizards Graz | H89: =IF(ISNA(VLOOKUP($G89,B86:E95,2,0)),0,1) -> 0 | I89: =IF($H89=0,0,IF(VLOOKUP($G89,B86:E95,2,0)>VLOOKUP($G89,B86:E95,3,0),1,0)) -> 0 | J89: =IF($H89=0,0,IF(VLOOKUP($G89,B86:E95,2,0)=VLOOKUP($G89,B86:E95,3,0),1,0)) -> 0 | K89: =IF($H89=0,0,IF(VLOOKUP($G89,B86:E95,2,0)<VLOOKUP($G89,B86:E95,3,0),1,0)) -> 0 | L89: =IF($H89=0,0,VLOOKUP($G89,B86:E95,2,0)) -> 0 | M89: =IF($H89=0,0,VLOOKUP($G89,B86:E95,3,0)) -> 0
A90: 3 | B90: Borgia's Bullen | C90: #N/A | D90: #N/A | E90: Was Lacostet die Welt III | G90: Krebsgeschwader [BBL] | H90: =IF(ISNA(VLOOKUP($G90,B86:E95,2,0)),0,1) -> 0 | I90: =IF($H90=0,0,IF(VLOOKUP($G90,B86:E95,2,0)>VLOOKUP($G90,B86:E95,3,0),1,0)) -> 0 | J90: =IF($H90=0,0,IF(VLOOKUP($G90,B86:E95,2,0)=VLOOKUP($G90,B86:E95,3,0),1,0)) -> 0 | K90: =IF($H90=0,0,IF(VLOOKUP($G90,B86:E95,2,0)<VLOOKUP($G90,B86:E95,3,0),1,0)) -> 0 | L90: =IF($H90=0,0,VLOOKUP($G90,B86:E95,2,0)) -> 0 | M90: =IF($H90=0,0,VLOOKUP($G90,B86:E95,3,0)) -> 0 | O90: ="[b]"&B90&"[/b]"&" ("&VLOOKUP(B90,Tabelle!$B$2:$C$11,2,FALSE)&") - [b]"&E90&"[/b]"&" ("&VLOOKUP(E90,Tabelle!$B$2:$C$11,2,FALSE)&")" -> [b]Borgia's Bullen[/b] (Masurk) - [b]Was Lacostet die Welt III[/b] (TiJaNe7)
B91: =E90 -> Was Lacostet die Welt III | C91: =D90 -> #N/A | D91: =C90 -> #N/A | E91: =B90 -> Borgia's Bullen | G91: Lost&Damned Resurrection | H91: =IF(ISNA(VLOOKUP($G91,B86:E95,2,0)),0,1) -> 0 | I91: =IF($H91=0,0,IF(VLOOKUP($G91,B86:E95,2,0)>VLOOKUP($G91,B86:E95,3,0),1,0)) -> 0 | J91: =IF($H91=0,0,IF(VLOOKUP($G91,B86:E95,2,0)=VLOOKUP($G91,B86:E95,3,0),1,0)) -> 0 | K91: =IF($H91=0,0,IF(VLOOKUP($G91,B86:E95,2,0)<VLOOKUP($G91,B86:E95,3,0),1,0)) -> 0 | L91: =IF($H91=0,0,VLOOKUP($G91,B86:E95,2,0)) -> 0 | M91: =IF($H91=0,0,VLOOKUP($G91,B86:E95,3,0)) -> 0
A92: 4 | B92: Golden Lizards Graz | C92: #N/A | D92: #N/A | E92: Lost&Damned Resurrection | G92: Malekith's Corsairs | H92: =IF(ISNA(VLOOKUP($G92,B86:E95,2,0)),0,1) -> 0 | I92: =IF($H92=0,0,IF(VLOOKUP($G92,B86:E95,2,0)>VLOOKUP($G92,B86:E95,3,0),1,0)) -> 0 | J92: =IF($H92=0,0,IF(VLOOKUP($G92,B86:E95,2,0)=VLOOKUP($G92,B86:E95,3,0),1,0)) -> 0 | K92: =IF($H92=0,0,IF(VLOOKUP($G92,B86:E95,2,0)<VLOOKUP($G92,B86:E95,3,0),1,0)) -> 0 | L92: =IF($H92=0,0,VLOOKUP($G92,B86:E95,2,0)) -> 0 | M92: =IF($H92=0,0,VLOOKUP($G92,B86:E95,3,0)) -> 0 | O92: ="[b]"&B92&"[/b]"&" ("&VLOOKUP(B92,Tabelle!$B$2:$C$11,2,FALSE)&") - [b]"&E92&"[/b]"&" ("&VLOOKUP(E92,Tabelle!$B$2:$C$11,2,FALSE)&")" -> [b]Golden Lizards Graz[/b] (Murgor17) - [b]Lost&Damned Resurrection[/b] (Wolf_Dislike)
B93: =E92 -> Lost&Damned Resurrection | C93: =D92 -> #N/A | D93: =C92 -> #N/A | E93: =B92 -> Golden Lizards Graz | G93: Tawarwaith Lothlorien | H93: =IF(ISNA(VLOOKUP($G93,B86:E95,2,0)),0,1) -> 0 | I93: =IF($H93=0,0,IF(VLOOKUP($G93,B86:E95,2,0)>VLOOKUP($G93,B86:E95,3,0),1,0)) -> 0 | J93: =IF($H93=0,0,IF(VLOOKUP($G93,B86:E95,2,0)=VLOOKUP($G93,B86:E95,3,0),1,0)) -> 0 | K93: =IF($H93=0,0,IF(VLOOKUP($G93,B86:E95,2,0)<VLOOKUP($G93,B86:E95,3,0),1,0)) -> 0 | L93: =IF($H93=0,0,VLOOKUP($G93,B86:E95,2,0)) -> 0 | M93: =IF($H93=0,0,VLOOKUP($G93,B86:E95,3,0)) -> 0
A94: 5 | B94: BluMen-Group | C94: #N/A | D94: #N/A | E94: Krebsgeschwader [BBL] | G94: The Chaotic Hipstering | H94: =IF(ISNA(VLOOKUP($G94,B86:E95,2,0)),0,1) -> 0 | I94: =IF($H94=0,0,IF(VLOOKUP($G94,B86:E95,2,0)>VLOOKUP($G94,B86:E95,3,0),1,0)) -> 0 | J94: =IF($H94=0,0,IF(VLOOKUP($G94,B86:E95,2,0)=VLOOKUP($G94,B86:E95,3,0),1,0)) -> 0 | K94: =IF($H94=0,0,IF(VLOOKUP($G94,B86:E95,2,0)<VLOOKUP($G94,B86:E95,3,0),1,0)) -> 0 | L94: =IF($H94=0,0,VLOOKUP($G94,B86:E95,2,0)) -> 0 | M94: =IF($H94=0,0,VLOOKUP($G94,B86:E95,3,0)) -> 0 | O94: ="[b]"&B94&"[/b]"&" ("&VLOOKUP(B94,Tabelle!$B$2:$C$11,2,FALSE)&") - [b]"&E94&"[/b]"&" ("&VLOOKUP(E94,Tabelle!$B$2:$C$11,2,FALSE)&")" -> [b]BluMen-Group[/b] (Sandmännchen) - [b]Krebsgeschwader [BBL][/b] (Suaron)
B95: =E94 -> Krebsgeschwader [BBL] | C95: =D94 -> #N/A | D95: =C94 -> #N/A | E95: =B94 -> BluMen-Group | G95: Was Lacostet die Welt III | H95: =IF(ISNA(VLOOKUP($G95,B86:E95,2,0)),0,1) -> 0 | I95: =IF($H95=0,0,IF(VLOOKUP($G95,B86:E95,2,0)>VLOOKUP($G95,B86:E95,3,0),1,0)) -> 0 | J95: =IF($H95=0,0,IF(VLOOKUP($G95,B86:E95,2,0)=VLOOKUP($G95,B86:E95,3,0),1,0)) -> 0 | K95: =IF($H95=0,0,IF(VLOOKUP($G95,B86:E95,2,0)<VLOOKUP($G95,B86:E95,3,0),1,0)) -> 0 | L95: =IF($H95=0,0,VLOOKUP($G95,B86:E95,2,0)) -> 0 | M95: =IF($H95=0,0,VLOOKUP($G95,B86:E95,3,0)) -> 0
A97: Spieltag9 | B97: Mannschaft1 | C97: Touchdowns1 | D97: Touchdowns2 | E97: Mannschaft2 | G97: Tabelle9 | I97: S | J97: U | K97: N | L97: TD | M97: GTD
A98: 1 | B98: Tawarwaith Lothlorien | C98: #N/A | D98: #N/A | E98: Krebsgeschwader [BBL] | G98: BluMen-Group | H98: =IF(ISNA(VLOOKUP($G98,B98:E107,2,0)),0,1) -> 0 | I98: =IF($H98=0,0,IF(VLOOKUP($G98,B98:E107,2,0)>VLOOKUP($G98,B98:E107,3,0),1,0)) -> 0 | J98: =IF($H98=0,0,IF(VLOOKUP($G98,B98:E107,2,0)=VLOOKUP($G98,B98:E107,3,0),1,0)) -> 0 | K98: =IF($H98=0,0,IF(VLOOKUP($G98,B98:E107,2,0)<VLOOKUP($G98,B98:E107,3,0),1,0)) -> 0 | L98: =IF($H98=0,0,VLOOKUP($G98,B98:E107,2,0)) -> 0 | M98: =IF($H98=0,0,VLOOKUP($G98,B98:E107,3,0)) -> 0 | O98: ="[b]"&B98&"[/b]"&" ("&VLOOKUP(B98,Tabelle!$B$2:$C$11,2,FALSE)&") - [b]"&E98&"[/b]"&" ("&VLOOKUP(E98,Tabelle!$B$2:$C$11,2,FALSE)&")" -> [b]Tawarwaith Lothlorien[/b] (Leonydas) - [b]Krebsgeschwader [BBL][/b] (Suaron)
B99: =E98 -> Krebsgeschwader [BBL] | C99: =D98 -> #N/A | D99: =C98 -> #N/A | E99: =B98 -> Tawarwaith Lothlorien | G99: Borgia's Bullen | H99: =IF(ISNA(VLOOKUP($G99,$B98:E107,2,0)),0,1) -> 0 | I99: =IF($H99=0,0,IF(VLOOKUP($G99,B98:E107,2,0)>VLOOKUP($G99,B98:E107,3,0),1,0)) -> 0 | J99: =IF($H99=0,0,IF(VLOOKUP($G99,B98:E107,2,0)=VLOOKUP($G99,B98:E107,3,0),1,0)) -> 0 | K99: =IF($H99=0,0,IF(VLOOKUP($G99,B98:E107,2,0)<VLOOKUP($G99,B98:E107,3,0),1,0)) -> 0 | L99: =IF($H99=0,0,VLOOKUP($G99,B98:E107,2,0)) -> 0 | M99: =IF($H99=0,0,VLOOKUP($G99,B98:E107,3,0)) -> 0
A100: 2 | B100: Lost&Damned Resurrection | C100: #N/A | D100: #N/A | E100: BluMen-Group | G100: Famous Generals | H100: =IF(ISNA(VLOOKUP($G100,B98:E107,2,0)),0,1) -> 0 | I100: =IF($H100=0,0,IF(VLOOKUP($G100,B98:E107,2,0)>VLOOKUP($G100,B98:E107,3,0),1,0)) -> 0 | J100: =IF($H100=0,0,IF(VLOOKUP($G100,B98:E107,2,0)=VLOOKUP($G100,B98:E107,3,0),1,0)) -> 0 | K100: =IF($H100=0,0,IF(VLOOKUP($G100,B98:E107,2,0)<VLOOKUP($G100,B98:E107,3,0),1,0)) -> 0 | L100: =IF($H100=0,0,VLOOKUP($G100,B98:E107,2,0)) -> 0 | M100: =IF($H100=0,0,VLOOKUP($G100,B98:E107,3,0)) -> 0 | O100: ="[b]"&B100&"[/b]"&" ("&VLOOKUP(B100,Tabelle!$B$2:$C$11,2,FALSE)&") - [b]"&E100&"[/b]"&" ("&VLOOKUP(E100,Tabelle!$B$2:$C$11,2,FALSE)&")" -> [b]Lost&Damned Resurrection[/b] (Wolf_Dislike) - [b]BluMen-Group[/b] (Sandmännchen)
B101: =E100 -> BluMen-Group | C101: =D100 -> #N/A | D101: =C100 -> #N/A | E101: =B100 -> Lost&Damned Resurrection | G101: Golden Lizards Graz | H101: =IF(ISNA(VLOOKUP($G101,B98:E107,2,0)),0,1) -> 0 | I101: =IF($H101=0,0,IF(VLOOKUP($G101,B98:E107,2,0)>VLOOKUP($G101,B98:E107,3,0),1,0)) -> 0 | J101: =IF($H101=0,0,IF(VLOOKUP($G101,B98:E107,2,0)=VLOOKUP($G101,B98:E107,3,0),1,0)) -> 0 | K101: =IF($H101=0,0,IF(VLOOKUP($G101,B98:E107,2,0)<VLOOKUP($G101,B98:E107,3,0),1,0)) -> 0 | L101: =IF($H101=0,0,VLOOKUP($G101,B98:E107,2,0)) -> 0 | M101: =IF($H101=0,0,VLOOKUP($G101,B98:E107,3,0)) -> 0
A102: 3 | B102: Was Lacostet die Welt III | C102: #N/A | D102: #N/A | E102: Golden Lizards Graz | G102: Krebsgeschwader [BBL] | H102: =IF(ISNA(VLOOKUP($G102,B98:E107,2,0)),0,1) -> 0 | I102: =IF($H102=0,0,IF(VLOOKUP($G102,B98:E107,2,0)>VLOOKUP($G102,B98:E107,3,0),1,0)) -> 0 | J102: =IF($H102=0,0,IF(VLOOKUP($G102,B98:E107,2,0)=VLOOKUP($G102,B98:E107,3,0),1,0)) -> 0 | K102: =IF($H102=0,0,IF(VLOOKUP($G102,B98:E107,2,0)<VLOOKUP($G102,B98:E107,3,0),1,0)) -> 0 | L102: =IF($H102=0,0,VLOOKUP($G102,B98:E107,2,0)) -> 0 | M102: =IF($H102=0,0,VLOOKUP($G102,B98:E107,3,0)) -> 0 | O102: ="[b]"&B102&"[/b]"&" ("&VLOOKUP(B102,Tabelle!$B$2:$C$11,2,FALSE)&") - [b]"&E102&"[/b]"&" ("&VLOOKUP(E102,Tabelle!$B$2:$C$11,2,FALSE)&")" -> [b]Was Lacostet die Welt III[/b] (TiJaNe7) - [b]Golden Lizards Graz[/b] (Murgor17)
B103: =E102 -> Golden Lizards Graz | C103: =D102 -> #N/A | D103: =C102 -> #N/A | E103: =B102 -> Was Lacostet die Welt III | G103: Lost&Damned Resurrection | H103: =IF(ISNA(VLOOKUP($G103,B98:E107,2,0)),0,1) -> 0 | I103: =IF($H103=0,0,IF(VLOOKUP($G103,B98:E107,2,0)>VLOOKUP($G103,B98:E107,3,0),1,0)) -> 0 | J103: =IF($H103=0,0,IF(VLOOKUP($G103,B98:E107,2,0)=VLOOKUP($G103,B98:E107,3,0),1,0)) -> 0 | K103: =IF($H103=0,0,IF(VLOOKUP($G103,B98:E107,2,0)<VLOOKUP($G103,B98:E107,3,0),1,0)) -> 0 | L103: =IF($H103=0,0,VLOOKUP($G103,B98:E107,2,0)) -> 0 | M103: =IF($H103=0,0,VLOOKUP($G103,B98:E107,3,0)) -> 0
A104: 4 | B104: The Chaotic Hipstering | C104: #N/A | D104: #N/A | E104: Borgia's Bullen | G104: Malekith's Corsairs | H104: =IF(ISNA(VLOOKUP($G104,B98:E107,2,0)),0,1) -> 0 | I104: =IF($H104=0,0,IF(VLOOKUP($G104,B98:E107,2,0)>VLOOKUP($G104,B98:E107,3,0),1,0)) -> 0 | J104: =IF($H104=0,0,IF(VLOOKUP($G104,B98:E107,2,0)=VLOOKUP($G104,B98:E107,3,0),1,0)) -> 0 | K104: =IF($H104=0,0,IF(VLOOKUP($G104,B98:E107,2,0)<VLOOKUP($G104,B98:E107,3,0),1,0)) -> 0 | L104: =IF($H104=0,0,VLOOKUP($G104,B98:E107,2,0)) -> 0 | M104: =IF($H104=0,0,VLOOKUP($G104,B98:E107,3,0)) -> 0 | O104: ="[b]"&B104&"[/b]"&" ("&VLOOKUP(B104,Tabelle!$B$2:$C$11,2,FALSE)&") - [b]"&E104&"[/b]"&" ("&VLOOKUP(E104,Tabelle!$B$2:$C$11,2,FALSE)&")" -> [b]The Chaotic Hipstering[/b] (FuuX) - [b]Borgia's Bullen[/b] (Masurk)
B105: =E104 -> Borgia's Bullen | C105: =D104 -> #N/A | D105: =C104 -> #N/A | E105: =B104 -> The Chaotic Hipstering | G105: Tawarwaith Lothlorien | H105: =IF(ISNA(VLOOKUP($G105,B98:E107,2,0)),0,1) -> 0 | I105: =IF($H105=0,0,IF(VLOOKUP($G105,B98:E107,2,0)>VLOOKUP($G105,B98:E107,3,0),1,0)) -> 0 | J105: =IF($H105=0,0,IF(VLOOKUP($G105,B98:E107,2,0)=VLOOKUP($G105,B98:E107,3,0),1,0)) -> 0 | K105: =IF($H105=0,0,IF(VLOOKUP($G105,B98:E107,2,0)<VLOOKUP($G105,B98:E107,3,0),1,0)) -> 0 | L105: =IF($H105=0,0,VLOOKUP($G105,B98:E107,2,0)) -> 0 | M105: =IF($H105=0,0,VLOOKUP($G105,B98:E107,3,0)) -> 0
A106: 5 | B106: Famous Generals | C106: #N/A | D106: #N/A | E106: Malekith's Corsairs | G106: The Chaotic Hipstering | H106: =IF(ISNA(VLOOKUP($G106,B98:E107,2,0)),0,1) -> 0 | I106: =IF($H106=0,0,IF(VLOOKUP($G106,B98:E107,2,0)>VLOOKUP($G106,B98:E107,3,0),1,0)) -> 0 | J106: =IF($H106=0,0,IF(VLOOKUP($G106,B98:E107,2,0)=VLOOKUP($G106,B98:E107,3,0),1,0)) -> 0 | K106: =IF($H106=0,0,IF(VLOOKUP($G106,B98:E107,2,0)<VLOOKUP($G106,B98:E107,3,0),1,0)) -> 0 | L106: =IF($H106=0,0,VLOOKUP($G106,B98:E107,2,0)) -> 0 | M106: =IF($H106=0,0,VLOOKUP($G106,B98:E107,3,0)) -> 0 | O106: ="[b]"&B106&"[/b]"&" ("&VLOOKUP(B106,Tabelle!$B$2:$C$11,2,FALSE)&") - [b]"&E106&"[/b]"&" ("&VLOOKUP(E106,Tabelle!$B$2:$C$11,2,FALSE)&")" -> [b]Famous Generals[/b] (Adrian0815) - [b]Malekith's Corsairs[/b] (Stompot)
B107: =E106 -> Malekith's Corsairs | C107: =D106 -> #N/A | D107: =C106 -> #N/A | E107: =B106 -> Famous Generals | G107: Was Lacostet die Welt III | H107: =IF(ISNA(VLOOKUP($G107,B98:E107,2,0)),0,1) -> 0 | I107: =IF($H107=0,0,IF(VLOOKUP($G107,B98:E107,2,0)>VLOOKUP($G107,B98:E107,3,0),1,0)) -> 0 | J107: =IF($H107=0,0,IF(VLOOKUP($G107,B98:E107,2,0)=VLOOKUP($G107,B98:E107,3,0),1,0)) -> 0 | K107: =IF($H107=0,0,IF(VLOOKUP($G107,B98:E107,2,0)<VLOOKUP($G107,B98:E107,3,0),1,0)) -> 0 | L107: =IF($H107=0,0,VLOOKUP($G107,B98:E107,2,0)) -> 0 | M107: =IF($H107=0,0,VLOOKUP($G107,B98:E107,3,0)) -> 0
